BEGIN:VCALENDAR
VERSION:2.0
PRODID:-//Ocean State Research Institute - ECPv6.15.17.1//NONSGML v1.0//EN
CALSCALE:GREGORIAN
METHOD:PUBLISH
X-WR-CALNAME:Ocean State Research Institute
X-ORIGINAL-URL:https://cpvb.org
X-WR-CALDESC:Events for Ocean State Research Institute
REFRESH-INTERVAL;VALUE=DURATION:PT1H
X-Robots-Tag:noindex
X-PUBLISHED-TTL:PT1H
BEGIN:VTIMEZONE
TZID:America/New_York
BEGIN:DAYLIGHT
TZOFFSETFROM:-0500
TZOFFSETTO:-0400
TZNAME:EDT
DTSTART:20230312T070000
END:DAYLIGHT
BEGIN:STANDARD
TZOFFSETFROM:-0400
TZOFFSETTO:-0500
TZNAME:EST
DTSTART:20231105T060000
END:STANDARD
BEGIN:DAYLIGHT
TZOFFSETFROM:-0500
TZOFFSETTO:-0400
TZNAME:EDT
DTSTART:20240310T070000
END:DAYLIGHT
BEGIN:STANDARD
TZOFFSETFROM:-0400
TZOFFSETTO:-0500
TZNAME:EST
DTSTART:20241103T060000
END:STANDARD
BEGIN:DAYLIGHT
TZOFFSETFROM:-0500
TZOFFSETTO:-0400
TZNAME:EDT
DTSTART:20250309T070000
END:DAYLIGHT
BEGIN:STANDARD
TZOFFSETFROM:-0400
TZOFFSETTO:-0500
TZNAME:EST
DTSTART:20251102T060000
END:STANDARD
END:VTIMEZONE
BEGIN:VEVENT
DTSTART;TZID=America/New_York:20241108T150000
DTEND;TZID=America/New_York:20241108T160000
DTSTAMP:20260422T121207
CREATED:20240919T150602Z
LAST-MODIFIED:20250107T153645Z
UID:4405-1731078000-1731081600@cpvb.org
SUMMARY:Jun Yu \, MD - ER Remodeling in Inflammation and Vascular Disease
DESCRIPTION:ER Remodeling in Inflammation and Vascular Disease \nPresenter: Jun Yu \, MD\nLocation: Providence VA Medical Center (830 Chalkstone Ave\, Providence\, RI 02908)\nBuilding #35 Conference Room 142/143 \nIn person attendance is encouraged. If unable\, please join us virtually\nJoin Zoom Meeting\nhttps://brown.zoom.us/j/94324061641?pwd=6lEnXlMmzKtJwFKACm5aQP6dlUyfbC.1 Meeting ID: 943 2406 1641
URL:https://cpvb.org/event/jun-yu-md/
LOCATION:VA Hospital – Providence\, 830 Chalkstone Avenue\, Providence\, RI\, 02908\, United States
CATEGORIES:Conference
END:VEVENT
END:VCALENDAR