BEGIN:VCALENDAR
VERSION:2.0
PRODID:-//Ocean State Research Institute - ECPv6.15.17.1//NONSGML v1.0//EN
CALSCALE:GREGORIAN
METHOD:PUBLISH
X-ORIGINAL-URL:https://cpvb.org
X-WR-CALDESC:Events for Ocean State Research Institute
REFRESH-INTERVAL;VALUE=DURATION:PT1H
X-Robots-Tag:noindex
X-PUBLISHED-TTL:PT1H
BEGIN:VTIMEZONE
TZID:America/New_York
BEGIN:DAYLIGHT
TZOFFSETFROM:-0500
TZOFFSETTO:-0400
TZNAME:EDT
DTSTART:20250309T070000
END:DAYLIGHT
BEGIN:STANDARD
TZOFFSETFROM:-0400
TZOFFSETTO:-0500
TZNAME:EST
DTSTART:20251102T060000
END:STANDARD
BEGIN:DAYLIGHT
TZOFFSETFROM:-0500
TZOFFSETTO:-0400
TZNAME:EDT
DTSTART:20260308T070000
END:DAYLIGHT
BEGIN:STANDARD
TZOFFSETFROM:-0400
TZOFFSETTO:-0500
TZNAME:EST
DTSTART:20261101T060000
END:STANDARD
BEGIN:DAYLIGHT
TZOFFSETFROM:-0500
TZOFFSETTO:-0400
TZNAME:EDT
DTSTART:20270314T070000
END:DAYLIGHT
BEGIN:STANDARD
TZOFFSETFROM:-0400
TZOFFSETTO:-0500
TZNAME:EST
DTSTART:20271107T060000
END:STANDARD
END:VTIMEZONE
BEGIN:VEVENT
DTSTART;TZID=America/New_York:20260109T150000
DTEND;TZID=America/New_York:20260109T160000
DTSTAMP:20260421T134513
CREATED:20250903T132808Z
LAST-MODIFIED:20260105T221505Z
UID:4697-1767970800-1767974400@cpvb.org
SUMMARY:Peng Zhang\, MD\, MS – Myocardial energy metabolism in HFpEF and blood bioenergetics biomarker
DESCRIPTION:Myocardial energy metabolism in HFpEF and blood bioenergetics biomarker\nPresenter: Peng Zhang\, MD\, MS\nLocation: Providence VA Medical Center (830 Chalkstone Ave\, Providence\, RI 02908)\nBuilding #35 Conference Room 142/143 \nIn person attendance is encouraged. If unable\, please join us virtually\nJoin Zoom Meeting\nhttps://brown.zoom.us/j/94324061641?pwd=6lEnXlMmzKtJwFKACm5aQP6dlUyfbC.1\nMeeting ID: 943 2406 1641
URL:https://cpvb.org/event/peng-zhang-md-ms-2/
LOCATION:VA Hospital – Providence\, 830 Chalkstone Avenue\, Providence\, RI\, 02908\, United States
CATEGORIES:Conference
END:VEVENT
BEGIN:VEVENT
DTSTART;TZID=America/New_York:20260116T150000
DTEND;TZID=America/New_York:20260116T160000
DTSTAMP:20260421T134513
CREATED:20260105T221905Z
LAST-MODIFIED:20260106T193208Z
UID:4833-1768575600-1768579200@cpvb.org
SUMMARY:James Klinger\, MD – SOX17 And RUNX1 as Novel Targets for Treatment of Pulmonary Hypertension
DESCRIPTION:SOX17 And RUNX1 as Novel Targets for Treatment of Pulmonary Hypertension\nPresenter: James Klinger\, MD\nLocation: Providence VA Medical Center (830 Chalkstone Ave\, Providence\, RI 02908)\nBuilding #35 Conference Room 142/143 \nIn person attendance is encouraged. If unable\, please join us virtually\nJoin Zoom Meeting\nhttps://brown.zoom.us/j/94324061641?pwd=6lEnXlMmzKtJwFKACm5aQP6dlUyfbC.1\nMeeting ID: 943 2406 1641
URL:https://cpvb.org/event/james-klinger-md/
LOCATION:VA Hospital – Providence\, 830 Chalkstone Avenue\, Providence\, RI\, 02908\, United States
CATEGORIES:Conference
END:VEVENT
BEGIN:VEVENT
DTSTART;TZID=America/New_York:20260123T150000
DTEND;TZID=America/New_York:20260123T160000
DTSTAMP:20260421T134513
CREATED:20260105T221942Z
LAST-MODIFIED:20260106T193236Z
UID:4836-1769180400-1769184000@cpvb.org
SUMMARY:Jessica Plavicki\, PhD – Identifying the development origin of late emerging proepicardial progenitor cells
DESCRIPTION:Identifying the development origin of late emerging proepicardial progenitor cells\nPresenter: Jessica Plavicki\, PhD\nLocation: Providence VA Medical Center (830 Chalkstone Ave\, Providence\, RI 02908)\nBuilding #35 Conference Room 142/143 \nIn person attendance is encouraged. If unable\, please join us virtually\nJoin Zoom Meeting\nhttps://brown.zoom.us/j/94324061641?pwd=6lEnXlMmzKtJwFKACm5aQP6dlUyfbC.1\nMeeting ID: 943 2406 1641
URL:https://cpvb.org/event/jessica-plavicki-phd-3/
LOCATION:VA Hospital – Providence\, 830 Chalkstone Avenue\, Providence\, RI\, 02908\, United States
CATEGORIES:Conference
END:VEVENT
BEGIN:VEVENT
DTSTART;TZID=America/New_York:20260130T150000
DTEND;TZID=America/New_York:20260130T160000
DTSTAMP:20260421T134513
CREATED:20260105T222026Z
LAST-MODIFIED:20260201T161726Z
UID:4839-1769785200-1769788800@cpvb.org
SUMMARY:Reza Avaz\, PhD – AI-Enabled Quantification of Cardiovascular Remodeling in Pulmonary Hypertension
DESCRIPTION:AI-Enabled Quantification of Cardiovascular Remodeling in Pulmonary Hypertension\nPresenter: Reza Avaz\, PhD\nLocation: Virtual Only \nJoin us virtually via Zoom Meeting\nhttps://brown.zoom.us/j/94324061641?pwd=6lEnXlMmzKtJwFKACm5aQP6dlUyfbC.1\nMeeting ID: 943 2406 1641
URL:https://cpvb.org/event/reza-avaz-phd-ai-enabled-quantification-of-cardiovascular-remodeling-in-pulmonary-hypertension/
LOCATION:Zoom
CATEGORIES:Conference
END:VEVENT
END:VCALENDAR