BEGIN:VCALENDAR
VERSION:2.0
PRODID:-//Ocean State Research Institute - ECPv6.15.17.1//NONSGML v1.0//EN
CALSCALE:GREGORIAN
METHOD:PUBLISH
X-WR-CALNAME:Ocean State Research Institute
X-ORIGINAL-URL:https://cpvb.org
X-WR-CALDESC:Events for Ocean State Research Institute
REFRESH-INTERVAL;VALUE=DURATION:PT1H
X-Robots-Tag:noindex
X-PUBLISHED-TTL:PT1H
BEGIN:VTIMEZONE
TZID:America/New_York
BEGIN:DAYLIGHT
TZOFFSETFROM:-0500
TZOFFSETTO:-0400
TZNAME:EDT
DTSTART:20180311T070000
END:DAYLIGHT
BEGIN:STANDARD
TZOFFSETFROM:-0400
TZOFFSETTO:-0500
TZNAME:EST
DTSTART:20181104T060000
END:STANDARD
BEGIN:DAYLIGHT
TZOFFSETFROM:-0500
TZOFFSETTO:-0400
TZNAME:EDT
DTSTART:20190310T070000
END:DAYLIGHT
BEGIN:STANDARD
TZOFFSETFROM:-0400
TZOFFSETTO:-0500
TZNAME:EST
DTSTART:20191103T060000
END:STANDARD
BEGIN:DAYLIGHT
TZOFFSETFROM:-0500
TZOFFSETTO:-0400
TZNAME:EDT
DTSTART:20200308T070000
END:DAYLIGHT
BEGIN:STANDARD
TZOFFSETFROM:-0400
TZOFFSETTO:-0500
TZNAME:EST
DTSTART:20201101T060000
END:STANDARD
END:VTIMEZONE
BEGIN:VEVENT
DTSTART;TZID=America/New_York:20190617T163000
DTEND;TZID=America/New_York:20190617T180000
DTSTAMP:20260422T024205
CREATED:20190307T151208Z
LAST-MODIFIED:20190311T190514Z
UID:2431-1560789000-1560794400@cpvb.org
SUMMARY:Charles S. Dela Cruz\, MD\, PhD
DESCRIPTION:Charles S. Dela Cruz\, MD\, PhD\nAssociate Professor\nSection of Pulmonary\, Critical Care and Sleep Medicine\nDepartment of Internal Medicine\nDepartment of Microbial Pathogenesis\nDirector\, Center of Pulmonary Infection Research and Treatment (CPIRT)\nYale University
URL:https://cpvb.org/event/charles-s-dela-cruz-md-phd/
LOCATION:Brown University Medical School\, 222 Richmond Street\, Providence\, RI\, 02903\, United States
CATEGORIES:Conference
END:VEVENT
BEGIN:VEVENT
DTSTART;TZID=America/New_York:20190607T083000
DTEND;TZID=America/New_York:20190607T170000
DTSTAMP:20260422T024205
CREATED:20190118T153108Z
LAST-MODIFIED:20190423T145949Z
UID:2371-1559896200-1559926800@cpvb.org
SUMMARY:Rhode Island IDeA meeting
DESCRIPTION:Rhode Island IDeA meeting\nThe Rhode Island IDeA Symposium is an annual science symposium that brings together research investigators from across the state of Rhode Island to collaborate on projects funded by Institutional Development Awards (IDeA) from the National Institute of General Medical Sciences (NIGMS) of the National Institutes of Health. \nThis gathering showcases research discovery\, allows sharing of best practices and opportunities to better coordinate the basic\, clinical\, and translational research and investigator development programs that are supported by Rhode Island NIH IDeA event sponsors. \nWe look forward to you joining us for this highly interactive science gathering! \nSponsored by:\nCenters of Biomedical Research Excellence (COBRE)\nRhode Island IDeA Network for Biomedical Research Excellence (INBRE)\nAdvance Clinical and Translational Research (Advance-CTR)\nEnvironmental influences on Child Health Outcomes (ECHO)
URL:https://cpvb.org/event/rhode-island-idea-meeting/
LOCATION:Brown University Medical School\, 222 Richmond Street\, Providence\, RI\, 02903\, United States
CATEGORIES:Conference
END:VEVENT
BEGIN:VEVENT
DTSTART;TZID=America/New_York:20190603T163000
DTEND;TZID=America/New_York:20190603T180000
DTSTAMP:20260422T024205
CREATED:20190422T143025Z
LAST-MODIFIED:20190422T143025Z
UID:2544-1559579400-1559584800@cpvb.org
SUMMARY:Bruce D. Levy\, M.D. - Translational Mechanisms For Inflammation and Defective Resolution in Severe Asthma
DESCRIPTION:Translational Mechanisms For Inflammation and Defective Resolution in Severe Asthma\nBruce D. Levy\, M.D.\nParker B. Francis Professor of Medicine\nDivision Chief of the Pulmonary and Critical Care Division/\nBrigham & Women’s Hospital\nHarvard University School of Medicine\, Boston\, MA \nRoom 275
URL:https://cpvb.org/event/bruce-d-levy-m-d-translational-mechanisms-for-inflammation-and-defective-resolution-in-severe-asthma/
LOCATION:Brown University Medical School\, 222 Richmond Street\, Providence\, RI\, 02903\, United States
CATEGORIES:Conference
END:VEVENT
BEGIN:VEVENT
DTSTART;TZID=America/New_York:20190506T163000
DTEND;TZID=America/New_York:20190506T180000
DTSTAMP:20260422T024205
CREATED:20181019T202510Z
LAST-MODIFIED:20181128T180353Z
UID:2323-1557160200-1557165600@cpvb.org
SUMMARY:George Washko\, MD - Deep Learning and Medical Image Analysis
DESCRIPTION:Deep Learning and Medical Image Analysis\nGeorge Washko\, MD\nHarvard University\nBrigham & Women’s Hospital
URL:https://cpvb.org/event/george-washko-md/
LOCATION:Brown University Medical School\, 222 Richmond Street\, Providence\, RI\, 02903\, United States
CATEGORIES:Conference
END:VEVENT
BEGIN:VEVENT
DTSTART;TZID=America/New_York:20190402T080000
DTEND;TZID=America/New_York:20190402T090000
DTSTAMP:20260422T024205
CREATED:20190211T211453Z
LAST-MODIFIED:20190211T211453Z
UID:2399-1554192000-1554195600@cpvb.org
SUMMARY:Wonder Puryear Drake\, MD - Identifying key contributors to gender disparities in Chronic Lung Diseases
DESCRIPTION:Identifying key contributors to gender disparities in Chronic Lung Diseases\nWonder Puryear Drake\, MD\nProfessor of Medicine\nProfessor of Pathology\, Microbiology and Immunology\nRobert A. Goodwin\, Jr. Directorship in Medicine\nDirector of Sarcoidosis Center of Excellence\nVanderbilt University School of Medicine \nGeorge Auditorium\, Rhode Island Hospital
URL:https://cpvb.org/event/wonder-puryear-drake-md-identifying-key-contributors-to-gender-disparities-in-chronic-lung-diseases/
LOCATION:Rhode Island Hospital\, 593 Eddy Street\, Providence\, RI\, 02903\, United States
CATEGORIES:Conference
END:VEVENT
BEGIN:VEVENT
DTSTART;TZID=America/New_York:20190401T163000
DTEND;TZID=America/New_York:20190401T180000
DTSTAMP:20260422T024205
CREATED:20181128T181005Z
LAST-MODIFIED:20190211T210328Z
UID:2348-1554136200-1554141600@cpvb.org
SUMMARY:Wonder Puryear Drake\, MD - PD-1+Th17 cells in Pulmonary Fibrosis:  Are they are friends or foes?
DESCRIPTION:PD-1+Th17 cells in Pulmonary Fibrosis:  Are they are friends or foes?\nWonder Puryear Drake\, MD\nProfessor of Medicine\nProfessor of Pathology\, Microbiology and Immunology\nRobert A. Goodwin\, Jr. Directorship in Medicine\nDirector of Sarcoidosis Center of Excellence\nVanderbilt University School of Medicine
URL:https://cpvb.org/event/wonder-puryear-drake-md/
LOCATION:Brown University Medical School\, 222 Richmond Street\, Providence\, RI\, 02903\, United States
CATEGORIES:Conference
END:VEVENT
BEGIN:VEVENT
DTSTART;TZID=America/New_York:20190329T073000
DTEND;TZID=America/New_York:20190329T083000
DTSTAMP:20260422T024205
CREATED:20190118T152900Z
LAST-MODIFIED:20190301T171309Z
UID:2366-1553844600-1553848200@cpvb.org
SUMMARY:Elena Aikawa\, MD\, PhD – Calcifying microparticles\, microcalcifications and systems of cardiovascular disorders
DESCRIPTION:Calcifying microparticles\, microcalcifications and systems of cardiovascular disorders\nElena Aikawa\, MD\, PhD\nCardiology Grand Rounds \nRhode Island Hospital\, APC Building\, 7th Floor
URL:https://cpvb.org/event/elena-aikawa-md-phd-calcifying-microparticles-microcalcifications-and-systems-of-cardiovascular-disorders/
LOCATION:Rhode Island Hospital\, 593 Eddy Street\, Providence\, RI\, 02903\, United States
CATEGORIES:Conference
END:VEVENT
BEGIN:VEVENT
DTSTART;TZID=America/New_York:20190326T090000
DTEND;TZID=America/New_York:20190328T160000
DTSTAMP:20260422T024205
CREATED:20190211T211302Z
LAST-MODIFIED:20190211T211602Z
UID:2389-1553590800-1553788800@cpvb.org
SUMMARY:Kurt H. Albertine\, Ph.D.\, FAAAS\, FAAA - Workshop on Clear Writing for Grant Applications and Manuscripts
DESCRIPTION:Workshop on Clear Writing for Grant Applications and Manuscripts\nKurt H. Albertine\, Ph.D.\, FAAAS\, FAAA\nProfessor of Pediatrics\, Medicine\, and Neurobiology & Anatomy Edward B. Clark Endowed Chair IV of Pediatrics\nDirector of Basic and Translational Research\, Division of Neonatology Editor-in-Chief\, The Anatomical Record \n\n \nSave the Date!\nWorkshop Hours\nTuesday\, March 26\, 2019 – 9:00 am – 4:00 pm (Lunch 12:30 pm – 1:30 pm)\nWednesday\, March 27\, 2019 – 9:00 am – 4:00 pm (Lunch 12:30 pm – 1:30 pm)\nThursday\, March 28\, 2019 – 9:00 am\, – 4:30 pm (Lunch 12:30 pm – 1:30 pm)\n(All classes allow for one 15 minute break in the morning and afternoon) \nWe would like you to attend all the classes\, but if this is not possible then we ask\nthat you try to attend one class for the entire day \nPlease contact Joanne Richards to sign up at either 401-444-5648 or Joanne.richards@lifespan.org
URL:https://cpvb.org/event/kurt-h-albertine-ph-d-faaas-faaa-workshop-on-clear-writing-for-grant-applications-and-manuscripts/
LOCATION:VA Hospital – Providence\, 830 Chalkstone Avenue\, Providence\, RI\, 02908\, United States
CATEGORIES:Conference
END:VEVENT
BEGIN:VEVENT
DTSTART;TZID=America/New_York:20190304T163000
DTEND;TZID=America/New_York:20190304T180000
DTSTAMP:20260422T024205
CREATED:20180801T152258Z
LAST-MODIFIED:20181102T151302Z
UID:2122-1551717000-1551722400@cpvb.org
SUMMARY:Phyllis Dennery\, MD
DESCRIPTION:Phyllis Dennery\, MD \nBIRDS conference
URL:https://cpvb.org/event/phyllis-dennery-md/
LOCATION:Brown University Medical School\, 222 Richmond Street\, Providence\, RI\, 02903\, United States
CATEGORIES:Conference
END:VEVENT
BEGIN:VEVENT
DTSTART;TZID=America/New_York:20190204T163000
DTEND;TZID=America/New_York:20190204T180000
DTSTAMP:20260422T024205
CREATED:20181128T180626Z
LAST-MODIFIED:20181128T180626Z
UID:2339-1549297800-1549303200@cpvb.org
SUMMARY:B. Taylor Thompson\, MD - Monitoring Safety in ICU Comparative Effectiveness Trials without Usual Care Control Arms; lessons from the ARDSnet
DESCRIPTION:Monitoring Safety in ICU Comparative Effectiveness Trials without Usual Care Control Arms; lessons from the ARDSnet\nB. Taylor Thompson\, MD\nDirector\, Critical Care Translational Research\, Pulmonary/Critical Care Unit\, MGH
URL:https://cpvb.org/event/b-taylor-thompson-md-monitoring-safety-in-icu-comparative-effectiveness-trials-without-usual-care-control-arms-lessons-from-the-ardsnet/
LOCATION:Brown University Medical School\, 222 Richmond Street\, Providence\, RI\, 02903\, United States
CATEGORIES:Conference
END:VEVENT
END:VCALENDAR