BEGIN:VCALENDAR
VERSION:2.0
PRODID:-//Ocean State Research Institute - ECPv6.15.17.1//NONSGML v1.0//EN
CALSCALE:GREGORIAN
METHOD:PUBLISH
X-ORIGINAL-URL:https://cpvb.org
X-WR-CALDESC:Events for Ocean State Research Institute
REFRESH-INTERVAL;VALUE=DURATION:PT1H
X-Robots-Tag:noindex
X-PUBLISHED-TTL:PT1H
BEGIN:VTIMEZONE
TZID:America/New_York
BEGIN:DAYLIGHT
TZOFFSETFROM:-0500
TZOFFSETTO:-0400
TZNAME:EDT
DTSTART:20180311T070000
END:DAYLIGHT
BEGIN:STANDARD
TZOFFSETFROM:-0400
TZOFFSETTO:-0500
TZNAME:EST
DTSTART:20181104T060000
END:STANDARD
BEGIN:DAYLIGHT
TZOFFSETFROM:-0500
TZOFFSETTO:-0400
TZNAME:EDT
DTSTART:20190310T070000
END:DAYLIGHT
BEGIN:STANDARD
TZOFFSETFROM:-0400
TZOFFSETTO:-0500
TZNAME:EST
DTSTART:20191103T060000
END:STANDARD
BEGIN:DAYLIGHT
TZOFFSETFROM:-0500
TZOFFSETTO:-0400
TZNAME:EDT
DTSTART:20200308T070000
END:DAYLIGHT
BEGIN:STANDARD
TZOFFSETFROM:-0400
TZOFFSETTO:-0500
TZNAME:EST
DTSTART:20201101T060000
END:STANDARD
END:VTIMEZONE
BEGIN:VEVENT
DTSTART;TZID=America/New_York:20190405T150000
DTEND;TZID=America/New_York:20190405T160000
DTSTAMP:20260422T190830
CREATED:20180924T170432Z
LAST-MODIFIED:20180924T170432Z
UID:2272-1554476400-1554480000@cpvb.org
SUMMARY:Thomas Bartnikas\, MD\, PhD
DESCRIPTION:Thomas Bartnikas\, MD\, PhD\nAssistant Professor\nDepartment of Pathology and Laboratory Medicine at Brown University
URL:https://cpvb.org/event/thomas-bartnikas-md-phd/
LOCATION:VA Hospital – Providence\, 830 Chalkstone Avenue\, Providence\, RI\, 02908\, United States
CATEGORIES:Cardiac & Vascular Biology Research Seminar - Weekly Seminar Series
END:VEVENT
BEGIN:VEVENT
DTSTART;TZID=America/New_York:20190328T150000
DTEND;TZID=America/New_York:20190328T160000
DTSTAMP:20260422T190830
CREATED:20180906T022427Z
LAST-MODIFIED:20190301T171350Z
UID:2232-1553785200-1553788800@cpvb.org
SUMMARY:Elena Aikawa\, MD\, PhD - The role of extracellular vesicles in vascular calcification
DESCRIPTION:The role of extracellular vesicles in vascular calcification\nElena Aikawa\, MD\, PhD
URL:https://cpvb.org/event/elena-aikawa-md-phd/
LOCATION:VA Hospital – Providence\, 830 Chalkstone Avenue\, Providence\, RI\, 02908\, United States
CATEGORIES:Cardiac & Vascular Biology Research Seminar - Weekly Seminar Series
END:VEVENT
BEGIN:VEVENT
DTSTART;TZID=America/New_York:20190308T150000
DTEND;TZID=America/New_York:20190308T160000
DTSTAMP:20260422T190830
CREATED:20181019T202405Z
LAST-MODIFIED:20181019T202405Z
UID:2320-1552057200-1552060800@cpvb.org
SUMMARY:Gabrielle Stranieri - Advance-CTR: Awards\, Services\, and Resources
DESCRIPTION:Advance-CTR: Awards\, Services\, and Resources\nGabrielle Stranieri\nCommunication Manager Advance-CTR\nBrown University Division of Biology & Medicine
URL:https://cpvb.org/event/gabrielle-stranieri-advance-ctr-awards-services-and-resources/
LOCATION:VA Hospital – Providence\, 830 Chalkstone Avenue\, Providence\, RI\, 02908\, United States
CATEGORIES:Cardiac & Vascular Biology Research Seminar - Weekly Seminar Series
END:VEVENT
BEGIN:VEVENT
DTSTART;TZID=America/New_York:20190222T150000
DTEND;TZID=America/New_York:20190222T160000
DTSTAMP:20260422T190830
CREATED:20180924T170532Z
LAST-MODIFIED:20190211T210218Z
UID:2276-1550847600-1550851200@cpvb.org
SUMMARY:Harry Karmouty-Quintana\, PhD - 3'UTR Shortening and Developmental Gene Expression in Pulmonary Hypertension and Lung Fibrosis
DESCRIPTION:3’UTR Shortening and Developmental Gene Expression in Pulmonary Hypertension and Lung Fibrosis \nHarry Karmouty-Quintana\, PhD\nAssistant Professor\nDepartment of Biochemistry and Molecular Biology\nUTHealth – McGovern Medical School
URL:https://cpvb.org/event/harry-karmouty-quintana-phd/
LOCATION:VA Hospital – Providence\, 830 Chalkstone Avenue\, Providence\, RI\, 02908\, United States
CATEGORIES:Cardiac & Vascular Biology Research Seminar - Weekly Seminar Series
END:VEVENT
BEGIN:VEVENT
DTSTART;TZID=America/New_York:20190208T150000
DTEND;TZID=America/New_York:20190208T160000
DTSTAMP:20260422T190830
CREATED:20181019T201906Z
LAST-MODIFIED:20190118T152546Z
UID:2305-1549638000-1549641600@cpvb.org
SUMMARY:Anita Shukla – Smart Biomaterials for Applications in Infection Treatment and Regenerative Medicine
DESCRIPTION:Smart Biomaterials for Applications in Infection Treatment and Regenerative Medicine\nAnita Shukla\, PhD
URL:https://cpvb.org/event/anita-shukla-phd/
LOCATION:VA Hospital – Providence\, 830 Chalkstone Avenue\, Providence\, RI\, 02908\, United States
CATEGORIES:Cardiac & Vascular Biology Research Seminar - Weekly Seminar Series
END:VEVENT
BEGIN:VEVENT
DTSTART;TZID=America/New_York:20190125T150000
DTEND;TZID=America/New_York:20190125T160000
DTSTAMP:20260422T190830
CREATED:20180924T170342Z
LAST-MODIFIED:20190118T152607Z
UID:2269-1548428400-1548432000@cpvb.org
SUMMARY:Qing Lu – Mitophagy and NLRP3 Inflammasome in Cigarette Smoke-Associated Acute Respiratory Distress Syndrome
DESCRIPTION:Mitophagy and NLRP3 Inflammasome in Cigarette Smoke-Associated Acute Respiratory Distress Syndrome\nQing Lu
URL:https://cpvb.org/event/qing-lu/
LOCATION:VA Hospital – Providence\, 830 Chalkstone Avenue\, Providence\, RI\, 02908\, United States
CATEGORIES:Cardiac & Vascular Biology Research Seminar - Weekly Seminar Series
END:VEVENT
BEGIN:VEVENT
DTSTART;TZID=America/New_York:20190111T150000
DTEND;TZID=America/New_York:20190111T160000
DTSTAMP:20260422T190830
CREATED:20180801T151649Z
LAST-MODIFIED:20180924T170258Z
UID:2107-1547218800-1547222400@cpvb.org
SUMMARY:Alan Morrison\, MD
DESCRIPTION:Alan Morrison\, MD
URL:https://cpvb.org/event/alan-morrison-md-2/
LOCATION:VA Hospital – Providence\, 830 Chalkstone Avenue\, Providence\, RI\, 02908\, United States
CATEGORIES:Cardiac & Vascular Biology Research Seminar - Weekly Seminar Series
END:VEVENT
END:VCALENDAR