BEGIN:VCALENDAR
VERSION:2.0
PRODID:-//Ocean State Research Institute - ECPv6.15.17.1//NONSGML v1.0//EN
CALSCALE:GREGORIAN
METHOD:PUBLISH
X-WR-CALNAME:Ocean State Research Institute
X-ORIGINAL-URL:https://cpvb.org
X-WR-CALDESC:Events for Ocean State Research Institute
REFRESH-INTERVAL;VALUE=DURATION:PT1H
X-Robots-Tag:noindex
X-PUBLISHED-TTL:PT1H
BEGIN:VTIMEZONE
TZID:America/New_York
BEGIN:DAYLIGHT
TZOFFSETFROM:-0500
TZOFFSETTO:-0400
TZNAME:EDT
DTSTART:20210314T070000
END:DAYLIGHT
BEGIN:STANDARD
TZOFFSETFROM:-0400
TZOFFSETTO:-0500
TZNAME:EST
DTSTART:20211107T060000
END:STANDARD
BEGIN:DAYLIGHT
TZOFFSETFROM:-0500
TZOFFSETTO:-0400
TZNAME:EDT
DTSTART:20220313T070000
END:DAYLIGHT
BEGIN:STANDARD
TZOFFSETFROM:-0400
TZOFFSETTO:-0500
TZNAME:EST
DTSTART:20221106T060000
END:STANDARD
BEGIN:DAYLIGHT
TZOFFSETFROM:-0500
TZOFFSETTO:-0400
TZNAME:EDT
DTSTART:20230312T070000
END:DAYLIGHT
BEGIN:STANDARD
TZOFFSETFROM:-0400
TZOFFSETTO:-0500
TZNAME:EST
DTSTART:20231105T060000
END:STANDARD
BEGIN:DAYLIGHT
TZOFFSETFROM:-0500
TZOFFSETTO:-0400
TZNAME:EDT
DTSTART:20240310T070000
END:DAYLIGHT
BEGIN:STANDARD
TZOFFSETFROM:-0400
TZOFFSETTO:-0500
TZNAME:EST
DTSTART:20241103T060000
END:STANDARD
BEGIN:DAYLIGHT
TZOFFSETFROM:-0500
TZOFFSETTO:-0400
TZNAME:EDT
DTSTART:20250309T070000
END:DAYLIGHT
BEGIN:STANDARD
TZOFFSETFROM:-0400
TZOFFSETTO:-0500
TZNAME:EST
DTSTART:20251102T060000
END:STANDARD
END:VTIMEZONE
BEGIN:VEVENT
DTSTART;VALUE=DATE:20241019
DTEND;VALUE=DATE:20241021
DTSTAMP:20260422T184332
CREATED:20240906T202851Z
LAST-MODIFIED:20240919T201756Z
UID:4378-1729296000-1729468799@cpvb.org
SUMMARY:Advances in Right Heart Biology (From Physiology to Therapeutics)
DESCRIPTION:Program Description\nThe Right Heart Biology Conference is an educational\, interactive conference that discusses pulmonary hypertension which affects about 1% of the world population and is frequently associated with cardiopulmonary and metabolic diseases. Right heart dysfunction dictates the poor outcomes associated with pulmonary hypertension. Yet\, there are no specific therapies targeted towards the failing right heart. This educational activity brings together physicians and scientists from varied disciplines actively pursuing research to understand the molecular\, cellular\, and biomechanical mechanisms underlying right heart dysfunction\, and novel translational and therapeutic strategies to begin to address this unmet need.
URL:https://cpvb.org/event/advances-in-right-heart-biology-from-physiology-to-therapeutics/
LOCATION:Brown University Medical School\, 222 Richmond Street\, Providence\, RI\, 02903\, United States
CATEGORIES:Conference
ATTACH;FMTTYPE=image/png:https://cpvb.org/wp-content/uploads/2024/09/Right-Heart-Social-Post_image.png
END:VEVENT
BEGIN:VEVENT
DTSTART;VALUE=DATE:20241018
DTEND;VALUE=DATE:20241019
DTSTAMP:20260422T184332
CREATED:20250107T153441Z
LAST-MODIFIED:20250107T153441Z
UID:4510-1729209600-1729295999@cpvb.org
SUMMARY:No Seminar due to Advances in Right Heart Biology Symposium
DESCRIPTION:No Seminar due to Advances in Right Heart Biology Symposium
URL:https://cpvb.org/event/no-seminar-due-to-advances-in-right-heart-biology-symposium/
LOCATION:VA Hospital – Providence\, 830 Chalkstone Avenue\, Providence\, RI\, 02908\, United States
CATEGORIES:Cardiac & Vascular Biology Research Seminar - Weekly Seminar Series
END:VEVENT
BEGIN:VEVENT
DTSTART;TZID=America/New_York:20241011T150000
DTEND;TZID=America/New_York:20241011T160000
DTSTAMP:20260422T184332
CREATED:20240919T150401Z
LAST-MODIFIED:20250107T153347Z
UID:4396-1728658800-1728662400@cpvb.org
SUMMARY:Peng Zhang\, MD\, MS - Metabolic Remodeling in the Right Ventricular Mitochondria in Pulmonary Hypertension
DESCRIPTION:Metabolic Remodeling in the Right Ventricular Mitochondria in Pulmonary Hypertension \nPresenter: Peng Zhang\, MD\, MS\nLocation: Providence VA Medical Center (830 Chalkstone Ave\, Providence\, RI 02908)\nBuilding #35 Conference Room 142/143 \nIn person attendance is encouraged. If unable\, please join us virtually\nJoin Zoom Meeting\nhttps://brown.zoom.us/j/94324061641?pwd=6lEnXlMmzKtJwFKACm5aQP6dlUyfbC.1 Meeting ID: 943 2406 1641
URL:https://cpvb.org/event/peng-zhang-md-ms/
LOCATION:VA Hospital – Providence\, 830 Chalkstone Avenue\, Providence\, RI\, 02908\, United States
CATEGORIES:Conference
END:VEVENT
BEGIN:VEVENT
DTSTART;TZID=America/New_York:20241004T150000
DTEND;TZID=America/New_York:20241004T160000
DTSTAMP:20260422T184332
CREATED:20240919T150308Z
LAST-MODIFIED:20240930T203346Z
UID:4392-1728054000-1728057600@cpvb.org
SUMMARY:Automated Intelligence to Identify and Close Cardiovascular Care Gaps For Veterans – Nishant Shah\, MD\, MPH
DESCRIPTION:Automated Intelligence to Identify and Close Cardiovascular Care Gaps For Veterans\nPresenter: Nishant Shah\, MD\, MPH\nLocation: Providence VA Medical Center (830 Chalkstone Ave\, Providence\, RI 02908)\nBuilding #35 Conference Room 142/143 \nIn person attendance is encouraged. If unable\, please join us virtually\nJoin Zoom Meeting\nhttps://brown.zoom.us/j/94324061641?pwd=6lEnXlMmzKtJwFKACm5aQP6dlUyfbC.1 Meeting ID: 943 2406 1641
URL:https://cpvb.org/event/nishant-shah-md-mph/
LOCATION:VA Hospital – Providence\, 830 Chalkstone Avenue\, Providence\, RI\, 02908\, United States
CATEGORIES:Conference
END:VEVENT
BEGIN:VEVENT
DTSTART;TZID=America/New_York:20240927T150000
DTEND;TZID=America/New_York:20240927T160000
DTSTAMP:20260422T184332
CREATED:20240919T150127Z
LAST-MODIFIED:20240919T150127Z
UID:4389-1727449200-1727452800@cpvb.org
SUMMARY:Stronger Against Stress: Resiliency Within the Human Microcirculation – Julie Freed\, MD\, PhD (Virtual)
DESCRIPTION:Presenter: Julie Freed\, MD\, PhD\nJoin Zoom Meeting\nhttps://brown.zoom.us/j/94324061641?pwd=6lEnXlMmzKtJwFKACm5aQP6dlUyfbC.1 Meeting ID: 943 2406 1641
URL:https://cpvb.org/event/stronger-against-stress-resiliency-within-the-human-microcirculation-julie-freed-md-phd-virtual/
LOCATION:Zoom
CATEGORIES:Conference
END:VEVENT
BEGIN:VEVENT
DTSTART;TZID=America/New_York:20240920T150000
DTEND;TZID=America/New_York:20240920T160000
DTSTAMP:20260422T184332
CREATED:20240919T145811Z
LAST-MODIFIED:20240919T145904Z
UID:4384-1726844400-1726848000@cpvb.org
SUMMARY:High-Throughput Mass Spectrometry for Lipidomics and Metabolomics: Platform Development and Applications in Cardiovascular Research – Sergey Solomevich\, PhD
DESCRIPTION:Presenter: Sergey Solomevich\, PhD\nLocation: Providence VA Medical Center (830 Chalkstone Ave\, Providence\, RI 02908)\nBuilding #35 Conference Room 142/143 \nIn person attendance is encouraged. If unable\, please join us virtually\nJoin Zoom Meeting\nhttps://brown.zoom.us/j/94324061641?pwd=6lEnXlMmzKtJwFKACm5aQP6dlUyfbC.1 Meeting ID: 943 2406 1641
URL:https://cpvb.org/event/high-throughput-mass-spectrometry-for-lipidomics-and-metabolomics-platform-development-and-applications-in-cardiovascular-research-sergey-solomevich-phd/
LOCATION:VA Hospital – Providence\, 830 Chalkstone Avenue\, Providence\, RI\, 02908\, United States
CATEGORIES:Conference
END:VEVENT
BEGIN:VEVENT
DTSTART;TZID=America/New_York:20240913T150000
DTEND;TZID=America/New_York:20240913T160000
DTSTAMP:20260422T184332
CREATED:20240919T162424Z
LAST-MODIFIED:20240919T162424Z
UID:4460-1726239600-1726243200@cpvb.org
SUMMARY:"Insights on the Role of Scaffolding Protein EBP50 in Pulmonary Hypertension" – Imad Al Ghouleh\, PhD
DESCRIPTION:Presenter: Imad Al Ghouleh\, PhD\nTopic: “Insights on the Role of Scaffolding Protein EBP50 in Pulmonary Hypertension”\nLocation: Providence VA Medical Center (830 Chalkstone Ave\, Providence\, RI 02908)\nBuilding #35 Conference Room 142/143 \nIn person attendance is encouraged. If unable\, please join us virtually\nJoin Zoom Meeting\nhttps://brown.zoom.us/j/94324061641?pwd=6lEnXlMmzKtJwFKACm5aQP6dlUyfbC.1 Meeting ID: 943 2406 1641
URL:https://cpvb.org/event/insights-on-the-role-of-scaffolding-protein-ebp50-in-pulmonary-hypertension-imad-al-ghouleh-phd/
LOCATION:VA Hospital – Providence\, 830 Chalkstone Avenue\, Providence\, RI\, 02908\, United States
CATEGORIES:Conference
END:VEVENT
BEGIN:VEVENT
DTSTART;TZID=America/New_York:20240906T150000
DTEND;TZID=America/New_York:20240906T160000
DTSTAMP:20260422T184332
CREATED:20240919T162525Z
LAST-MODIFIED:20240919T162525Z
UID:4463-1725634800-1725638400@cpvb.org
SUMMARY:"Impaired Macrophage-Driven Inflammatory Angiogenesis As a Potential Mechanism of Worsening COVID-19 Severity in the Aged" – Alan Morrison\, MD\, PhD
DESCRIPTION:Presenter: Alan Morrison\, MD\, PhD\nTopic: “Impaired Macrophage-Driven Inflammatory Angiogenesis As a Potential Mechanism of Worsening COVID-19 Severity in the Aged”\nLocation: Providence VA Medical Center (830 Chalkstone Ave\, Providence\, RI 02908)\nBuilding #35 Conference Room 142/143 \nIn person attendance is encouraged. If unable\, please join us virtually\nJoin Zoom Meeting\nhttps://brown.zoom.us/j/94324061641?pwd=6lEnXlMmzKtJwFKACm5aQP6dlUyfbC.1 Meeting ID: 943 2406 1641
URL:https://cpvb.org/event/impaired-macrophage-driven-inflammatory-angiogenesis-as-a-potential-mechanism-of-worsening-covid-19-severity-in-the-aged-alan-morrison-md-phd/
LOCATION:VA Hospital – Providence\, 830 Chalkstone Avenue\, Providence\, RI\, 02908\, United States
CATEGORIES:Conference
END:VEVENT
BEGIN:VEVENT
DTSTART;TZID=America/New_York:20230526T150000
DTEND;TZID=America/New_York:20230526T160000
DTSTAMP:20260422T184332
CREATED:20220912T153031Z
LAST-MODIFIED:20221004T182933Z
UID:3997-1685113200-1685116800@cpvb.org
SUMMARY:Christopher Mantsounga\, MD
DESCRIPTION:Christopher Mantsounga\, MD \nCan’t Attend in Person?\nJoin Zoom Meeting\nhttps://brown.zoom.us/j/95428057837?pwd=TlVQTE9kQUt4aHBTaWpSdUlWbyt4dz09 \nMeeting ID: 954 2805 7837\nPasscode: 798382
URL:https://cpvb.org/event/christopher-mantsounga-md/
LOCATION:VA Hospital – Providence\, 830 Chalkstone Avenue\, Providence\, RI\, 02908\, United States
CATEGORIES:Cardiac & Vascular Biology Research Seminar - Weekly Seminar Series
END:VEVENT
BEGIN:VEVENT
DTSTART;TZID=America/New_York:20230512T150000
DTEND;TZID=America/New_York:20230512T160000
DTSTAMP:20260422T184332
CREATED:20220912T152956Z
LAST-MODIFIED:20221004T182927Z
UID:3994-1683903600-1683907200@cpvb.org
SUMMARY:Kareen Coulombe\, PhD & Frank Sellke\, MD
DESCRIPTION:Kareen Coulombe\, PhD & Frank Sellke\, MD \nCan’t Attend in Person?\nJoin Zoom Meeting\nhttps://brown.zoom.us/j/95428057837?pwd=TlVQTE9kQUt4aHBTaWpSdUlWbyt4dz09 \nMeeting ID: 954 2805 7837\nPasscode: 798382
URL:https://cpvb.org/event/kareen-coulombe-phd-frank-sellke-md/
LOCATION:VA Hospital – Providence\, 830 Chalkstone Avenue\, Providence\, RI\, 02908\, United States
CATEGORIES:Cardiac & Vascular Biology Research Seminar - Weekly Seminar Series
END:VEVENT
BEGIN:VEVENT
DTSTART;TZID=America/New_York:20230428T150000
DTEND;TZID=America/New_York:20230428T160000
DTSTAMP:20260422T184332
CREATED:20220912T152913Z
LAST-MODIFIED:20221004T182923Z
UID:3991-1682694000-1682697600@cpvb.org
SUMMARY:Adeel Abbasi\, MD
DESCRIPTION:Adeel Abbasi\, MD \nCan’t Attend in Person?\nJoin Zoom Meeting\nhttps://brown.zoom.us/j/95428057837?pwd=TlVQTE9kQUt4aHBTaWpSdUlWbyt4dz09 \nMeeting ID: 954 2805 7837\nPasscode: 798382
URL:https://cpvb.org/event/adeel-abbasi-md-2/
LOCATION:VA Hospital – Providence\, 830 Chalkstone Avenue\, Providence\, RI\, 02908\, United States
CATEGORIES:Cardiac & Vascular Biology Research Seminar - Weekly Seminar Series
END:VEVENT
BEGIN:VEVENT
DTSTART;TZID=America/New_York:20230414T150000
DTEND;TZID=America/New_York:20230414T160000
DTSTAMP:20260422T184332
CREATED:20220912T152837Z
LAST-MODIFIED:20221004T182920Z
UID:3988-1681484400-1681488000@cpvb.org
SUMMARY:Tasnim Imran\, MD\, PhD
DESCRIPTION:Tasnim Imran\, MD\, PhD \nCan’t Attend in Person?\nJoin Zoom Meeting\nhttps://brown.zoom.us/j/95428057837?pwd=TlVQTE9kQUt4aHBTaWpSdUlWbyt4dz09 \nMeeting ID: 954 2805 7837\nPasscode: 798382
URL:https://cpvb.org/event/tasnim-imran-md-phd/
LOCATION:VA Hospital – Providence\, 830 Chalkstone Avenue\, Providence\, RI\, 02908\, United States
CATEGORIES:Cardiac & Vascular Biology Research Seminar - Weekly Seminar Series
END:VEVENT
BEGIN:VEVENT
DTSTART;TZID=America/New_York:20230331T150000
DTEND;TZID=America/New_York:20230331T160000
DTSTAMP:20260422T184332
CREATED:20220912T152806Z
LAST-MODIFIED:20221004T182847Z
UID:3985-1680274800-1680278400@cpvb.org
SUMMARY:Alexander Brodsky\, PhD & James Klinger\, MD
DESCRIPTION:Alexander Brodsky\, PhD & James Klinger\, MD \nCan’t Attend in Person?\nJoin Zoom Meeting\nhttps://brown.zoom.us/j/95428057837?pwd=TlVQTE9kQUt4aHBTaWpSdUlWbyt4dz09 \nMeeting ID: 954 2805 7837\nPasscode: 798382
URL:https://cpvb.org/event/alexander-brodsky-phd-james-klinger-md/
LOCATION:VA Hospital – Providence\, 830 Chalkstone Avenue\, Providence\, RI\, 02908\, United States
CATEGORIES:Cardiac & Vascular Biology Research Seminar - Weekly Seminar Series
END:VEVENT
BEGIN:VEVENT
DTSTART;TZID=America/New_York:20230317T150000
DTEND;TZID=America/New_York:20230317T160000
DTSTAMP:20260422T184332
CREATED:20220912T152729Z
LAST-MODIFIED:20221004T182842Z
UID:3982-1679065200-1679068800@cpvb.org
SUMMARY:Jessica Plavicki\, PhD
DESCRIPTION:Jessica Plavicki\, PhD \nCan’t Attend in Person?\nJoin Zoom Meeting\nhttps://brown.zoom.us/j/95428057837?pwd=TlVQTE9kQUt4aHBTaWpSdUlWbyt4dz09 \nMeeting ID: 954 2805 7837\nPasscode: 798382
URL:https://cpvb.org/event/jessica-plavicki-phd-2/
LOCATION:VA Hospital – Providence\, 830 Chalkstone Avenue\, Providence\, RI\, 02908\, United States
CATEGORIES:Cardiac & Vascular Biology Research Seminar - Weekly Seminar Series
END:VEVENT
BEGIN:VEVENT
DTSTART;TZID=America/New_York:20230303T150000
DTEND;TZID=America/New_York:20230303T160000
DTSTAMP:20260422T184332
CREATED:20220912T152353Z
LAST-MODIFIED:20221004T182835Z
UID:3973-1677855600-1677859200@cpvb.org
SUMMARY:Samantha Meenach\, PhD & Yang Zhou\, PhD
DESCRIPTION:Samantha Meenach\, PhD & Yang Zhou\, PhD \nCan’t Attend in Person?\nJoin Zoom Meeting\nhttps://brown.zoom.us/j/95428057837?pwd=TlVQTE9kQUt4aHBTaWpSdUlWbyt4dz09 \nMeeting ID: 954 2805 7837\nPasscode: 798382
URL:https://cpvb.org/event/samantha-meenach-phd-yang-zhou-phd/
LOCATION:VA Hospital – Providence\, 830 Chalkstone Avenue\, Providence\, RI\, 02908\, United States
CATEGORIES:Cardiac & Vascular Biology Research Seminar - Weekly Seminar Series
END:VEVENT
BEGIN:VEVENT
DTSTART;TZID=America/New_York:20230217T150000
DTEND;TZID=America/New_York:20230217T160000
DTSTAMP:20260422T184332
CREATED:20220912T152321Z
LAST-MODIFIED:20221004T182829Z
UID:3970-1676646000-1676649600@cpvb.org
SUMMARY:Olin Liang\, PhD
DESCRIPTION:Olin Liang\, PhD \nCan’t Attend in Person?\nJoin Zoom Meeting\nhttps://brown.zoom.us/j/95428057837?pwd=TlVQTE9kQUt4aHBTaWpSdUlWbyt4dz09 \nMeeting ID: 954 2805 7837\nPasscode: 798382
URL:https://cpvb.org/event/olin-liang-phd/
LOCATION:VA Hospital – Providence\, 830 Chalkstone Avenue\, Providence\, RI\, 02908\, United States
CATEGORIES:Cardiac & Vascular Biology Research Seminar - Weekly Seminar Series
END:VEVENT
BEGIN:VEVENT
DTSTART;TZID=America/New_York:20230203T150000
DTEND;TZID=America/New_York:20230203T160000
DTSTAMP:20260422T184332
CREATED:20220912T152246Z
LAST-MODIFIED:20221004T182823Z
UID:3967-1675436400-1675440000@cpvb.org
SUMMARY:William Van Nostrand\, PhD- University of Rhode Island
DESCRIPTION:William Van Nostrand\, PhD- University of Rhode Island \nCan’t Attend in Person?\nJoin Zoom Meeting\nhttps://brown.zoom.us/j/95428057837?pwd=TlVQTE9kQUt4aHBTaWpSdUlWbyt4dz09 \nMeeting ID: 954 2805 7837\nPasscode: 798382
URL:https://cpvb.org/event/william-van-nostrand-phd-university-of-rhode-island/
LOCATION:VA Hospital – Providence\, 830 Chalkstone Avenue\, Providence\, RI\, 02908\, United States
CATEGORIES:Cardiac & Vascular Biology Research Seminar - Weekly Seminar Series
END:VEVENT
BEGIN:VEVENT
DTSTART;TZID=America/New_York:20230127T150000
DTEND;TZID=America/New_York:20230127T160000
DTSTAMP:20260422T184332
CREATED:20230119T211531Z
LAST-MODIFIED:20230119T211531Z
UID:4118-1674831600-1674835200@cpvb.org
SUMMARY:Dr. Zhiyu Dai
DESCRIPTION:Dr. Zhiyu Dai\nThe University of Arizona \nJoin Zoom Meeting\nhttps://brown.zoom.us/j/94225796851?pwd=a0x5VGZRUDhJNFM0T0w1Vy9haFlvQT09
URL:https://cpvb.org/event/dr-zhiyu-dai/
LOCATION:Zoom
CATEGORIES:Cardiac & Vascular Biology Research Seminar - Weekly Seminar Series
END:VEVENT
BEGIN:VEVENT
DTSTART;TZID=America/New_York:20230120T150000
DTEND;TZID=America/New_York:20230120T160000
DTSTAMP:20260422T184332
CREATED:20220912T152213Z
LAST-MODIFIED:20221004T182751Z
UID:3964-1674226800-1674230400@cpvb.org
SUMMARY:Reza Avaz\, PhD- Texas A&M
DESCRIPTION:Reza Avaz\, PhD- Texas A&M \nCan’t Attend in Person?\nJoin Zoom Meeting\nhttps://brown.zoom.us/j/95428057837?pwd=TlVQTE9kQUt4aHBTaWpSdUlWbyt4dz09 \nMeeting ID: 954 2805 7837\nPasscode: 798382
URL:https://cpvb.org/event/reza-avaz-phd-texas-am/
LOCATION:VA Hospital – Providence\, 830 Chalkstone Avenue\, Providence\, RI\, 02908\, United States
CATEGORIES:Cardiac & Vascular Biology Research Seminar - Weekly Seminar Series
END:VEVENT
BEGIN:VEVENT
DTSTART;TZID=America/New_York:20230106T150000
DTEND;TZID=America/New_York:20230106T160000
DTSTAMP:20260422T184332
CREATED:20220912T152139Z
LAST-MODIFIED:20221004T182744Z
UID:3961-1673017200-1673020800@cpvb.org
SUMMARY:Hongwei Yao\, PhD
DESCRIPTION:Hongwei Yao\, PhD \nCan’t Attend in Person?\nJoin Zoom Meeting\nhttps://brown.zoom.us/j/95428057837?pwd=TlVQTE9kQUt4aHBTaWpSdUlWbyt4dz09 \nMeeting ID: 954 2805 7837\nPasscode: 798382
URL:https://cpvb.org/event/hongwei-yao-phd-3/
LOCATION:VA Hospital – Providence\, 830 Chalkstone Avenue\, Providence\, RI\, 02908\, United States
CATEGORIES:Cardiac & Vascular Biology Research Seminar - Weekly Seminar Series
END:VEVENT
BEGIN:VEVENT
DTSTART;TZID=America/New_York:20221209T150000
DTEND;TZID=America/New_York:20221209T160000
DTSTAMP:20260422T184332
CREATED:20220912T152050Z
LAST-MODIFIED:20221004T182739Z
UID:3958-1670598000-1670601600@cpvb.org
SUMMARY:Anna Hemnes\, MD- Vanderbilt University
DESCRIPTION:Anna Hemnes\, MD- Vanderbilt University \nCan’t Attend in Person?\nJoin Zoom Meeting\nhttps://brown.zoom.us/j/95428057837?pwd=TlVQTE9kQUt4aHBTaWpSdUlWbyt4dz09 \nMeeting ID: 954 2805 7837\nPasscode: 798382
URL:https://cpvb.org/event/anna-hemnes-md-vanderbilt-university/
LOCATION:VA Hospital – Providence\, 830 Chalkstone Avenue\, Providence\, RI\, 02908\, United States
CATEGORIES:Cardiac & Vascular Biology Research Seminar - Weekly Seminar Series
END:VEVENT
BEGIN:VEVENT
DTSTART;TZID=America/New_York:20221118T150000
DTEND;TZID=America/New_York:20221118T160000
DTSTAMP:20260422T184332
CREATED:20220912T152014Z
LAST-MODIFIED:20221117T182950Z
UID:3955-1668783600-1668787200@cpvb.org
SUMMARY:Satish Srinivasan\, PhD- Oklahoma Medical Research Foundation
DESCRIPTION:Satish Srinivasan\, PhD- Oklahoma Medical Research Foundation \nCan’t Attend in Person?\nJoin Zoom Meeting\nhttps://brown.zoom.us/j/95423863220?pwd=YTJDMHNMUmtxdS9aWUNXanVwa0Rldz09 \nMeeting ID: 977 5467 6808\nPW: 797620
URL:https://cpvb.org/event/satish-srinivasan-phd-oklahoma-medical-research-foundation/
LOCATION:VA Hospital – Providence\, 830 Chalkstone Avenue\, Providence\, RI\, 02908\, United States
CATEGORIES:Cardiac & Vascular Biology Research Seminar - Weekly Seminar Series
END:VEVENT
BEGIN:VEVENT
DTSTART;TZID=America/New_York:20221028T150000
DTEND;TZID=America/New_York:20221028T160000
DTSTAMP:20260422T184332
CREATED:20220912T151939Z
LAST-MODIFIED:20221020T145201Z
UID:3952-1666969200-1666972800@cpvb.org
SUMMARY:Jun Feng\, MD\, PhD – Spike Protein on Endothelial Dysfunction
DESCRIPTION:Jun Feng\, MD\, PhD\nSpike Protein on Endothelial Dysfunction \nCan’t Attend in Person?\nJoin Zoom Meeting\nhttps://brown.zoom.us/j/95428057837?pwd=TlVQTE9kQUt4aHBTaWpSdUlWbyt4dz09 \nMeeting ID: 954 2805 7837\nPasscode: 798382
URL:https://cpvb.org/event/jun-feng-md-phd/
LOCATION:VA Hospital – Providence\, 830 Chalkstone Avenue\, Providence\, RI\, 02908\, United States
CATEGORIES:Cardiac & Vascular Biology Research Seminar - Weekly Seminar Series
END:VEVENT
BEGIN:VEVENT
DTSTART;TZID=America/New_York:20221014T150000
DTEND;TZID=America/New_York:20221014T160000
DTSTAMP:20260422T184332
CREATED:20220912T151803Z
LAST-MODIFIED:20221011T134355Z
UID:3943-1665759600-1665763200@cpvb.org
SUMMARY:Glenn Radice\, PhD – Molecular Control of Mechanical Forces during Cardiac Development and Disease
DESCRIPTION:Glenn Radice\, PhD\nMolecular Control of Mechanical Forces during Cardiac Development and Disease \nCan’t Attend in Person?\nJoin Zoom Meeting\nhttps://brown.zoom.us/j/95428057837?pwd=TlVQTE9kQUt4aHBTaWpSdUlWbyt4dz09 \nMeeting ID: 954 2805 7837\nPasscode: 798382
URL:https://cpvb.org/event/glenn-radice-phd/
LOCATION:VA Hospital – Providence\, 830 Chalkstone Avenue\, Providence\, RI\, 02908\, United States
CATEGORIES:Cardiac & Vascular Biology Research Seminar - Weekly Seminar Series
END:VEVENT
BEGIN:VEVENT
DTSTART;TZID=America/New_York:20220930T150000
DTEND;TZID=America/New_York:20220930T160000
DTSTAMP:20260422T184332
CREATED:20220912T151851Z
LAST-MODIFIED:20221004T171326Z
UID:3949-1664550000-1664553600@cpvb.org
SUMMARY:Sean Lawler\, PhD – Glioblastoma; How can we tame the Beast?
DESCRIPTION:Sean Lawler\, PhD \nJoin Zoom Meeting\nhttps://brown.zoom.us/j/91524191160?pwd=MkttSXdBWmJMWktUNWY0MGRKZWhyQT09 \nMeeting ID: 915 2419 1160\nPasscode: 288285
URL:https://cpvb.org/event/sean-lawler-phd/
LOCATION:Zoom
CATEGORIES:Cardiac & Vascular Biology Research Seminar - Weekly Seminar Series
END:VEVENT
BEGIN:VEVENT
DTSTART;TZID=America/New_York:20220916T150000
DTEND;TZID=America/New_York:20220916T160000
DTSTAMP:20260422T184332
CREATED:20220912T151528Z
LAST-MODIFIED:20220912T151610Z
UID:3939-1663340400-1663344000@cpvb.org
SUMMARY:BKCa Channel Activation Improves Recovery and Normalizes Mitochondrial Phosphoproteomic Changes Following Bypass Surgery in Swine
DESCRIPTION:Richard Clements\, PhD from The University of Rhode Island \nhttps://brown.zoom.us/j/94275893621?pwd=UTdLcWJWNk9zNU5ZL05CM1JLcHdadz09\nMeeting ID: 942 7589 3621\nPasscode: 476748
URL:https://cpvb.org/event/bkca-channel-activation-improves-recovery-and-normalizes-mitochondrial-phosphoproteomic-changes-following-bypass-surgery-in-swine/
LOCATION:Zoom
CATEGORIES:Cardiac & Vascular Biology Research Seminar - Weekly Seminar Series
END:VEVENT
BEGIN:VEVENT
DTSTART;TZID=America/New_York:20220610T083000
DTEND;TZID=America/New_York:20220610T163000
DTSTAMP:20260422T184332
CREATED:20220429T193925Z
LAST-MODIFIED:20220429T194016Z
UID:3901-1654849800-1654878600@cpvb.org
SUMMARY:2022 RI IDeA Symposium: Emerging Areas of Science
DESCRIPTION:The symposium will be held at the Warren Alpert Medical School of Brown University. We are looking forward to welcoming investigators\, research staff\, stakeholders\, and community members across the state both in person and virtually as this will be a day-long\, hybrid event. \nRegister for Event
URL:https://cpvb.org/event/2022-ri-idea-symposium-emerging-areas-of-science/
LOCATION:Brown University Medical School\, 222 Richmond Street\, Providence\, RI\, 02903\, United States
CATEGORIES:Conference
END:VEVENT
BEGIN:VEVENT
DTSTART;TZID=America/New_York:20220513T150000
DTEND;TZID=America/New_York:20220513T160000
DTSTAMP:20260422T184332
CREATED:20210721T145404Z
LAST-MODIFIED:20220125T161434Z
UID:3631-1652454000-1652457600@cpvb.org
SUMMARY:Frank Sellke\, MD
DESCRIPTION:Frank Sellke\, MD\nRhode Island Hospital and The Miriam Hospital Brown University \nZoom Meeting\nCPVB COBRE bi-weekly meeting\nJoin Zoom Meeting\nhttps://brown.zoom.us/j/94055651531?pwd=dmtFbnBQSmhlalV6WS96YVUzcWFOUT09 \nMeeting ID: 940 5565 1531\nPasscode: 799475\nOne tap mobile\n+13126266799\,\,94055651531#\,\,\,\,*799475# US (Chicago)\n+16465588656\,\,94055651531#\,\,\,\,*799475# US (New York) \nDial by your location\n        +1 312 626 6799 US (Chicago)\n        +1 646 558 8656 US (New York)\n        +1 301 715 8592 US (Washington DC)\n        +1 346 248 7799 US (Houston)\n        +1 669 900 6833 US (San Jose)\n        +1 253 215 8782 US (Tacoma)\n        877 853 5247 US Toll-free\nMeeting ID: 940 5565 1531\nPasscode: 799475\nFind your local number: https://brown.zoom.us/u/atzX3QGTu \nJoin by SIP\n94055651531@zoomcrc.com \nJoin by H.323\n162.255.37.11 (US West)\n162.255.36.11 (US East)\n115.114.131.7 (India Mumbai)\n115.114.115.7 (India Hyderabad)\n213.19.144.110 (Amsterdam Netherlands)\n213.244.140.110 (Germany)\n103.122.166.55 (Australia Sydney)\n103.122.167.55 (Australia Melbourne)\n64.211.144.160 (Brazil)\n69.174.57.160 (Canada Toronto)\n65.39.152.160 (Canada Vancouver)\n207.226.132.110 (Japan Tokyo)\n149.137.24.110 (Japan Osaka)\nMeeting ID: 940 5565 1531\nPasscode: 799475
URL:https://cpvb.org/event/frank-sellke-md-2/
LOCATION:Zoom
CATEGORIES:Cardiac & Vascular Biology Research Seminar - Weekly Seminar Series
END:VEVENT
BEGIN:VEVENT
DTSTART;TZID=America/New_York:20220429T150000
DTEND;TZID=America/New_York:20220429T160000
DTSTAMP:20260422T184332
CREATED:20210721T145224Z
LAST-MODIFIED:20220411T175243Z
UID:3627-1651244400-1651248000@cpvb.org
SUMMARY:Bi-Weekly TBD
DESCRIPTION:Details to come \nZoom Meeting\nCPVB COBRE bi-weekly meeting\nJoin Zoom Meeting\nhttps://brown.zoom.us/j/94055651531?pwd=dmtFbnBQSmhlalV6WS96YVUzcWFOUT09 \nMeeting ID: 940 5565 1531\nPasscode: 799475\nOne tap mobile\n+13126266799\,\,94055651531#\,\,\,\,*799475# US (Chicago)\n+16465588656\,\,94055651531#\,\,\,\,*799475# US (New York) \nDial by your location\n        +1 312 626 6799 US (Chicago)\n        +1 646 558 8656 US (New York)\n        +1 301 715 8592 US (Washington DC)\n        +1 346 248 7799 US (Houston)\n        +1 669 900 6833 US (San Jose)\n        +1 253 215 8782 US (Tacoma)\n        877 853 5247 US Toll-free\nMeeting ID: 940 5565 1531\nPasscode: 799475\nFind your local number: https://brown.zoom.us/u/atzX3QGTu \nJoin by SIP\n94055651531@zoomcrc.com \nJoin by H.323\n162.255.37.11 (US West)\n162.255.36.11 (US East)\n115.114.131.7 (India Mumbai)\n115.114.115.7 (India Hyderabad)\n213.19.144.110 (Amsterdam Netherlands)\n213.244.140.110 (Germany)\n103.122.166.55 (Australia Sydney)\n103.122.167.55 (Australia Melbourne)\n64.211.144.160 (Brazil)\n69.174.57.160 (Canada Toronto)\n65.39.152.160 (Canada Vancouver)\n207.226.132.110 (Japan Tokyo)\n149.137.24.110 (Japan Osaka)\nMeeting ID: 940 5565 1531\nPasscode: 799475
URL:https://cpvb.org/event/chang-min-lee-phd-3/
LOCATION:Zoom
CATEGORIES:Cardiac & Vascular Biology Research Seminar - Weekly Seminar Series
END:VEVENT
BEGIN:VEVENT
DTSTART;TZID=America/New_York:20220415T150000
DTEND;TZID=America/New_York:20220415T160000
DTSTAMP:20260422T184332
CREATED:20210817T184347Z
LAST-MODIFIED:20220311T154259Z
UID:3716-1650034800-1650038400@cpvb.org
SUMMARY:Craig Lefort\, PhD – Assistant Professor of Surgery (Research)   Rhode Island Hospital
DESCRIPTION:Ruhul Abid\, MD\, PhD\nRhode Island Hospital\nAlpert Medical School at Brown University \nZoom Meeting\nCPVB COBRE bi-weekly meeting\nJoin Zoom Meeting\nhttps://brown.zoom.us/j/94055651531?pwd=dmtFbnBQSmhlalV6WS96YVUzcWFOUT09 \nMeeting ID: 940 5565 1531\nPasscode: 799475\nOne tap mobile\n+13126266799\,\,94055651531#\,\,\,\,*799475# US (Chicago)\n+16465588656\,\,94055651531#\,\,\,\,*799475# US (New York) \nDial by your location\n+1 312 626 6799 US (Chicago)\n+1 646 558 8656 US (New York)\n+1 301 715 8592 US (Washington DC)\n+1 346 248 7799 US (Houston)\n+1 669 900 6833 US (San Jose)\n+1 253 215 8782 US (Tacoma)\n877 853 5247 US Toll-free\nMeeting ID: 940 5565 1531\nPasscode: 799475\nFind your local number: https://brown.zoom.us/u/atzX3QGTu \nJoin by SIP\n94055651531@zoomcrc.com \nJoin by H.323\n162.255.37.11 (US West)\n162.255.36.11 (US East)\n115.114.131.7 (India Mumbai)\n115.114.115.7 (India Hyderabad)\n213.19.144.110 (Amsterdam Netherlands)\n213.244.140.110 (Germany)\n103.122.166.55 (Australia Sydney)\n103.122.167.55 (Australia Melbourne)\n64.211.144.160 (Brazil)\n69.174.57.160 (Canada Toronto)\n65.39.152.160 (Canada Vancouver)\n207.226.132.110 (Japan Tokyo)\n149.137.24.110 (Japan Osaka)\nMeeting ID: 940 5565 1531\nPasscode: 799475
URL:https://cpvb.org/event/craig-lefort/
LOCATION:Zoom
CATEGORIES:Cardiac & Vascular Biology Research Seminar - Weekly Seminar Series
END:VEVENT
END:VCALENDAR