BEGIN:VCALENDAR
VERSION:2.0
PRODID:-//Ocean State Research Institute - ECPv6.15.17.1//NONSGML v1.0//EN
CALSCALE:GREGORIAN
METHOD:PUBLISH
X-WR-CALNAME:Ocean State Research Institute
X-ORIGINAL-URL:https://cpvb.org
X-WR-CALDESC:Events for Ocean State Research Institute
REFRESH-INTERVAL;VALUE=DURATION:PT1H
X-Robots-Tag:noindex
X-PUBLISHED-TTL:PT1H
BEGIN:VTIMEZONE
TZID:America/New_York
BEGIN:DAYLIGHT
TZOFFSETFROM:-0500
TZOFFSETTO:-0400
TZNAME:EDT
DTSTART:20250309T070000
END:DAYLIGHT
BEGIN:STANDARD
TZOFFSETFROM:-0400
TZOFFSETTO:-0500
TZNAME:EST
DTSTART:20251102T060000
END:STANDARD
BEGIN:DAYLIGHT
TZOFFSETFROM:-0500
TZOFFSETTO:-0400
TZNAME:EDT
DTSTART:20260308T070000
END:DAYLIGHT
BEGIN:STANDARD
TZOFFSETFROM:-0400
TZOFFSETTO:-0500
TZNAME:EST
DTSTART:20261101T060000
END:STANDARD
BEGIN:DAYLIGHT
TZOFFSETFROM:-0500
TZOFFSETTO:-0400
TZNAME:EDT
DTSTART:20270314T070000
END:DAYLIGHT
BEGIN:STANDARD
TZOFFSETFROM:-0400
TZOFFSETTO:-0500
TZNAME:EST
DTSTART:20271107T060000
END:STANDARD
END:VTIMEZONE
BEGIN:VEVENT
DTSTART;TZID=America/New_York:20260227T150000
DTEND;TZID=America/New_York:20260227T160000
DTSTAMP:20260421T153039
CREATED:20260105T222314Z
LAST-MODIFIED:20260223T200933Z
UID:4851-1772204400-1772208000@cpvb.org
SUMMARY:Daniel Yang\, MD – High-throughput functional profiling of MYH7 variants in genome-edited cardiomyocytes to predict cardiomyopathy risk
DESCRIPTION:High-throughput functional profiling of MYH7 variants in genome-edited cardiomyocytes to predict cardiomyopathy risk\nPresenter: Daniel Yang\, MD\nLocation: Providence VA Medical Center (830 Chalkstone Ave\, Providence\, RI 02908)\nBuilding #35 Conference Room 142/143 \nIn person attendance is encouraged. If unable\, please join us virtually\nJoin Zoom Meeting\nhttps://brown.zoom.us/j/94324061641?pwd=6lEnXlMmzKtJwFKACm5aQP6dlUyfbC.1\nMeeting ID: 943 2406 1641
URL:https://cpvb.org/event/daniel-yang-md/
LOCATION:VA Hospital – Providence\, 830 Chalkstone Avenue\, Providence\, RI\, 02908\, United States
CATEGORIES:Conference
END:VEVENT
BEGIN:VEVENT
DTSTART;TZID=America/New_York:20260306T150000
DTEND;TZID=America/New_York:20260306T160000
DTSTAMP:20260421T153039
CREATED:20260105T222421Z
LAST-MODIFIED:20260312T150151Z
UID:4854-1772809200-1772812800@cpvb.org
SUMMARY:Julia Woodcock\, PhD – Exploring Chemical RNA Dynamics in Pulmonary Vascular Diseases
DESCRIPTION:Exploring Chemical RNA Dynamics in Pulmonary Vascular Diseases\nPresenter: Julia Woodcock\, PhD\nLocation: Providence VA Medical Center (830 Chalkstone Ave\, Providence\, RI 02908)\nBuilding #35 Conference Room 142/143 \nIn person attendance is encouraged. If unable\, please join us virtually\nJoin Zoom Meeting\nhttps://brown.zoom.us/j/94324061641?pwd=6lEnXlMmzKtJwFKACm5aQP6dlUyfbC.1\nMeeting ID: 943 2406 1641
URL:https://cpvb.org/event/julia-woodcock-phd/
LOCATION:VA Hospital – Providence\, 830 Chalkstone Avenue\, Providence\, RI\, 02908\, United States
CATEGORIES:Conference
END:VEVENT
BEGIN:VEVENT
DTSTART;TZID=America/New_York:20260313T150000
DTEND;TZID=America/New_York:20260313T160000
DTSTAMP:20260421T153039
CREATED:20260105T222458Z
LAST-MODIFIED:20260312T150218Z
UID:4857-1773414000-1773417600@cpvb.org
SUMMARY:Sean Lawler\, PhD – Understanding the Role of Cytomegalovirus is Glioblastoma
DESCRIPTION:Understanding the Role of Cytomegalovirus is Glioblastoma\nPresenter: Sean Lawler\, PhD\nLocation: Providence VA Medical Center (830 Chalkstone Ave\, Providence\, RI 02908)\nBuilding #35 Conference Room 142/143 \nIn person attendance is encouraged. If unable\, please join us virtually\nJoin Zoom Meeting\nhttps://brown.zoom.us/j/94324061641?pwd=6lEnXlMmzKtJwFKACm5aQP6dlUyfbC.1\nMeeting ID: 943 2406 1641
URL:https://cpvb.org/event/sean-lawler-phd-2/
LOCATION:VA Hospital – Providence\, 830 Chalkstone Avenue\, Providence\, RI\, 02908\, United States
CATEGORIES:Conference
END:VEVENT
BEGIN:VEVENT
DTSTART;TZID=America/New_York:20260317T150000
DTEND;TZID=America/New_York:20260317T160000
DTSTAMP:20260421T153039
CREATED:20250916T203208Z
LAST-MODIFIED:20250916T203208Z
UID:4739-1773759600-1773763200@cpvb.org
SUMMARY:Zhang Lab
DESCRIPTION:Presenter: Peng Zhang\, MD\, MS\nIn person only
URL:https://cpvb.org/event/zhang-lab-2/
LOCATION:VA Hospital – Providence\, 830 Chalkstone Avenue\, Providence\, RI\, 02908\, United States
CATEGORIES:VRL Research in Progress
END:VEVENT
BEGIN:VEVENT
DTSTART;TZID=America/New_York:20260320T150000
DTEND;TZID=America/New_York:20260320T160000
DTSTAMP:20260421T153039
CREATED:20260105T222532Z
LAST-MODIFIED:20260312T150247Z
UID:4860-1774018800-1774022400@cpvb.org
SUMMARY:Melih Agraz\, PhD – Machine Learning for Genomics From Fundamentals to Deeper Models with Explainability
DESCRIPTION:Machine Learning for Genomics\nFrom Fundamentals to Deeper Models with Explainability\nPresenter: Melih Agraz\, PhD\nLocation: Providence VA Medical Center (830 Chalkstone Ave\, Providence\, RI 02908)\nBuilding #35 Conference Room 142/143 \nIn person attendance is encouraged. If unable\, please join us virtually\nJoin Zoom Meeting\nhttps://brown.zoom.us/j/94324061641?pwd=6lEnXlMmzKtJwFKACm5aQP6dlUyfbC.1\nMeeting ID: 943 2406 1641
URL:https://cpvb.org/event/melih-agraz-phd/
LOCATION:VA Hospital – Providence\, 830 Chalkstone Avenue\, Providence\, RI\, 02908\, United States
CATEGORIES:Conference
END:VEVENT
BEGIN:VEVENT
DTSTART;TZID=America/New_York:20260327T150000
DTEND;TZID=America/New_York:20260327T160000
DTSTAMP:20260421T153039
CREATED:20260105T222613Z
LAST-MODIFIED:20260312T150328Z
UID:4863-1774623600-1774627200@cpvb.org
SUMMARY:Sean Monaghan\, MD – Blood Test to Diagnose Pneumonia
DESCRIPTION:Blood Test to Diagnose Pneumonia\nPresenter: Sean Monaghan\, MD\nLocation: Providence VA Medical Center (830 Chalkstone Ave\, Providence\, RI 02908)\nBuilding #35 Conference Room 142/143 \nIn person attendance is encouraged. If unable\, please join us virtually\nJoin Zoom Meeting\nhttps://brown.zoom.us/j/94324061641?pwd=6lEnXlMmzKtJwFKACm5aQP6dlUyfbC.1\nMeeting ID: 943 2406 1641
URL:https://cpvb.org/event/sean-monaghan-md-3/
LOCATION:VA Hospital – Providence\, 830 Chalkstone Avenue\, Providence\, RI\, 02908\, United States
CATEGORIES:Conference
END:VEVENT
BEGIN:VEVENT
DTSTART;TZID=America/New_York:20260403T150000
DTEND;TZID=America/New_York:20260403T160000
DTSTAMP:20260421T153039
CREATED:20260105T222700Z
LAST-MODIFIED:20260105T222700Z
UID:4866-1775228400-1775232000@cpvb.org
SUMMARY:Milka Koupenova\, PhD
DESCRIPTION:Presenter: Milka Koupenova\, PhD\nLocation: Providence VA Medical Center (830 Chalkstone Ave\, Providence\, RI 02908)\nBuilding #35 Conference Room 142/143 \nIn person attendance is encouraged. If unable\, please join us virtually\nJoin Zoom Meeting\nhttps://brown.zoom.us/j/94324061641?pwd=6lEnXlMmzKtJwFKACm5aQP6dlUyfbC.1\nMeeting ID: 943 2406 1641
URL:https://cpvb.org/event/milka-koupenova-phd-2/
LOCATION:VA Hospital – Providence\, 830 Chalkstone Avenue\, Providence\, RI\, 02908\, United States
CATEGORIES:Conference
END:VEVENT
BEGIN:VEVENT
DTSTART;TZID=America/New_York:20260407T150000
DTEND;TZID=America/New_York:20260407T160000
DTSTAMP:20260421T153039
CREATED:20250916T203231Z
LAST-MODIFIED:20250916T203231Z
UID:4742-1775574000-1775577600@cpvb.org
SUMMARY:Al Ghouleh Lab
DESCRIPTION:Presenter: Imad Al Ghouleh\, PhD\nIn person only
URL:https://cpvb.org/event/al-ghouleh-lab-2/
LOCATION:VA Hospital – Providence\, 830 Chalkstone Avenue\, Providence\, RI\, 02908\, United States
CATEGORIES:VRL Research in Progress
END:VEVENT
BEGIN:VEVENT
DTSTART;TZID=America/New_York:20260410T150000
DTEND;TZID=America/New_York:20260410T160000
DTSTAMP:20260421T153039
CREATED:20260105T222746Z
LAST-MODIFIED:20260105T222746Z
UID:4869-1775833200-1775836800@cpvb.org
SUMMARY:Imad Al Ghouleh\, PhD
DESCRIPTION:Presenter: Imad Al Ghouleh\, PhD\nLocation: Providence VA Medical Center (830 Chalkstone Ave\, Providence\, RI 02908)\nBuilding #35 Conference Room 142/143 \nIn person attendance is encouraged. If unable\, please join us virtually\nJoin Zoom Meeting\nhttps://brown.zoom.us/j/94324061641?pwd=6lEnXlMmzKtJwFKACm5aQP6dlUyfbC.1\nMeeting ID: 943 2406 1641
URL:https://cpvb.org/event/imad-al-ghouleh-phd/
LOCATION:VA Hospital – Providence\, 830 Chalkstone Avenue\, Providence\, RI\, 02908\, United States
CATEGORIES:Conference
END:VEVENT
BEGIN:VEVENT
DTSTART;TZID=America/New_York:20260417T150000
DTEND;TZID=America/New_York:20260417T160000
DTSTAMP:20260421T153039
CREATED:20260105T222833Z
LAST-MODIFIED:20260105T222833Z
UID:4872-1776438000-1776441600@cpvb.org
SUMMARY:Hina Chaudhry\, MD
DESCRIPTION:Presenter: Hina Chaudhry\, MD\nLocation: Providence VA Medical Center (830 Chalkstone Ave\, Providence\, RI 02908)\nBuilding #35 Conference Room 142/143 \nIn person attendance is encouraged. If unable\, please join us virtually\nJoin Zoom Meeting\nhttps://brown.zoom.us/j/94324061641?pwd=6lEnXlMmzKtJwFKACm5aQP6dlUyfbC.1\nMeeting ID: 943 2406 1641
URL:https://cpvb.org/event/hina-chaudhry-md/
LOCATION:VA Hospital – Providence\, 830 Chalkstone Avenue\, Providence\, RI\, 02908\, United States
CATEGORIES:Conference
END:VEVENT
BEGIN:VEVENT
DTSTART;TZID=America/New_York:20260424T150000
DTEND;TZID=America/New_York:20260424T160000
DTSTAMP:20260421T153039
CREATED:20260105T222918Z
LAST-MODIFIED:20260106T155251Z
UID:4875-1777042800-1777046400@cpvb.org
SUMMARY:Timothy Nurkiewicz\, PhD
DESCRIPTION:Presenter: Timothy Nurkiewicz\, PhD\nLocation: Virtual Only \nPlease join us virtually via Zoom\nhttps://brown.zoom.us/j/94324061641?pwd=6lEnXlMmzKtJwFKACm5aQP6dlUyfbC.1\nMeeting ID: 943 2406 1641
URL:https://cpvb.org/event/timothy-nurkiewicz-phd/
LOCATION:Zoom
CATEGORIES:Conference
END:VEVENT
BEGIN:VEVENT
DTSTART;TZID=America/New_York:20260428T150000
DTEND;TZID=America/New_York:20260428T160000
DTSTAMP:20260421T153039
CREATED:20250916T203255Z
LAST-MODIFIED:20250916T203255Z
UID:4745-1777388400-1777392000@cpvb.org
SUMMARY:Clements Lab
DESCRIPTION:Presenter: Richard Clements\, PhD\nIn person only
URL:https://cpvb.org/event/clements-lab-2/
LOCATION:VA Hospital – Providence\, 830 Chalkstone Avenue\, Providence\, RI\, 02908\, United States
CATEGORIES:VRL Research in Progress
END:VEVENT
BEGIN:VEVENT
DTSTART;TZID=America/New_York:20260501T150000
DTEND;TZID=America/New_York:20260501T160000
DTSTAMP:20260421T153039
CREATED:20260105T222151Z
LAST-MODIFIED:20260212T174038Z
UID:4845-1777647600-1777651200@cpvb.org
SUMMARY:Georgios Paschos\, PhD – Circadian rhythms in cardiovascular pathophysiology. Opportunities and challenges for pulmonary hypertension
DESCRIPTION:Circadian rhythms in cardiovascular pathophysiology. Opportunities and challenges for pulmonary hypertension\nPresenter: Georgios Paschos\, PhD\nLocation: Providence VA Medical Center (830 Chalkstone Ave\, Providence\, RI 02908)\nBuilding #35 Conference Room 142/143 \nIn person attendance is encouraged. If unable\, please join us virtually\nJoin Zoom Meeting\nhttps://brown.zoom.us/j/94324061641?pwd=6lEnXlMmzKtJwFKACm5aQP6dlUyfbC.1\nMeeting ID: 943 2406 1641
URL:https://cpvb.org/event/georgios-paschos-phd/
LOCATION:VA Hospital – Providence\, 830 Chalkstone Avenue\, Providence\, RI\, 02908\, United States
CATEGORIES:Conference
END:VEVENT
BEGIN:VEVENT
DTSTART;TZID=America/New_York:20260501T150000
DTEND;TZID=America/New_York:20260501T160000
DTSTAMP:20260421T153039
CREATED:20260105T222948Z
LAST-MODIFIED:20260105T222948Z
UID:4878-1777647600-1777651200@cpvb.org
SUMMARY:TBD
DESCRIPTION:Presenter: TBD\nLocation: Providence VA Medical Center (830 Chalkstone Ave\, Providence\, RI 02908)\nBuilding #35 Conference Room 142/143 \nIn person attendance is encouraged. If unable\, please join us virtually\nJoin Zoom Meeting\nhttps://brown.zoom.us/j/94324061641?pwd=6lEnXlMmzKtJwFKACm5aQP6dlUyfbC.1\nMeeting ID: 943 2406 1641
URL:https://cpvb.org/event/tbd-3/
LOCATION:VA Hospital – Providence\, 830 Chalkstone Avenue\, Providence\, RI\, 02908\, United States
CATEGORIES:Conference
END:VEVENT
BEGIN:VEVENT
DTSTART;TZID=America/New_York:20260508T150000
DTEND;TZID=America/New_York:20260508T160000
DTSTAMP:20260421T153039
CREATED:20260105T223030Z
LAST-MODIFIED:20260105T223030Z
UID:4881-1778252400-1778256000@cpvb.org
SUMMARY:TBD
DESCRIPTION:Presenter: TBD\nLocation: Providence VA Medical Center (830 Chalkstone Ave\, Providence\, RI 02908)\nBuilding #35 Conference Room 142/143 \nIn person attendance is encouraged. If unable\, please join us virtually\nJoin Zoom Meeting\nhttps://brown.zoom.us/j/94324061641?pwd=6lEnXlMmzKtJwFKACm5aQP6dlUyfbC.1\nMeeting ID: 943 2406 1641
URL:https://cpvb.org/event/tbd-4/
LOCATION:VA Hospital – Providence\, 830 Chalkstone Avenue\, Providence\, RI\, 02908\, United States
CATEGORIES:Conference
END:VEVENT
BEGIN:VEVENT
DTSTART;TZID=America/New_York:20260514T150000
DTEND;TZID=America/New_York:20260514T160000
DTSTAMP:20260421T153039
CREATED:20260105T223045Z
LAST-MODIFIED:20260106T155418Z
UID:4884-1778770800-1778774400@cpvb.org
SUMMARY:Wolfgang Kuebler\,  PhD
DESCRIPTION:Presenter: Wolfgang Kuebler\,  PhD\nLocation: Providence VA Medical Center (830 Chalkstone Ave\, Providence\, RI 02908)\nBuilding #35 Conference Room 142/143 \nIn person attendance is encouraged. If unable\, please join us virtually\nJoin Zoom Meeting\nhttps://brown.zoom.us/j/94324061641?pwd=6lEnXlMmzKtJwFKACm5aQP6dlUyfbC.1\nMeeting ID: 943 2406 1641
URL:https://cpvb.org/event/wolfgang-kuebler-phd/
LOCATION:VA Hospital – Providence\, 830 Chalkstone Avenue\, Providence\, RI\, 02908\, United States
CATEGORIES:Conference
END:VEVENT
BEGIN:VEVENT
DTSTART;TZID=America/New_York:20260519T150000
DTEND;TZID=America/New_York:20260519T160000
DTSTAMP:20260421T153039
CREATED:20250916T203319Z
LAST-MODIFIED:20250916T203319Z
UID:4748-1779202800-1779206400@cpvb.org
SUMMARY:Morrison/Mantsounga Labs
DESCRIPTION:Presenters: Alan Morrison\, MD\, PhD & Christopher Mantsounga\, PhD\nIn person only
URL:https://cpvb.org/event/morrison-mantsounga-labs-2/
LOCATION:VA Hospital – Providence\, 830 Chalkstone Avenue\, Providence\, RI\, 02908\, United States
CATEGORIES:VRL Research in Progress
END:VEVENT
BEGIN:VEVENT
DTSTART;TZID=America/New_York:20260522T150000
DTEND;TZID=America/New_York:20260522T160000
DTSTAMP:20260421T153039
CREATED:20260105T223141Z
LAST-MODIFIED:20260106T155330Z
UID:4890-1779462000-1779465600@cpvb.org
SUMMARY:TBD
DESCRIPTION:Presenter: TBD\nLocation: Providence VA Medical Center (830 Chalkstone Ave\, Providence\, RI 02908)\nBuilding #35 Conference Room 142/143 \nIn person attendance is encouraged. If unable\, please join us virtually\nJoin Zoom Meeting\nhttps://brown.zoom.us/j/94324061641?pwd=6lEnXlMmzKtJwFKACm5aQP6dlUyfbC.1\nMeeting ID: 943 2406 1641
URL:https://cpvb.org/event/tbd/
LOCATION:VA Hospital – Providence\, 830 Chalkstone Avenue\, Providence\, RI\, 02908\, United States
CATEGORIES:Conference
END:VEVENT
BEGIN:VEVENT
DTSTART;TZID=America/New_York:20260529T150000
DTEND;TZID=America/New_York:20260529T160000
DTSTAMP:20260421T153039
CREATED:20260105T223114Z
LAST-MODIFIED:20260105T223114Z
UID:4887-1780066800-1780070400@cpvb.org
SUMMARY:TBD
DESCRIPTION:Presenter: TBD\nLocation: Providence VA Medical Center (830 Chalkstone Ave\, Providence\, RI 02908)\nBuilding #35 Conference Room 142/143 \nIn person attendance is encouraged. If unable\, please join us virtually\nJoin Zoom Meeting\nhttps://brown.zoom.us/j/94324061641?pwd=6lEnXlMmzKtJwFKACm5aQP6dlUyfbC.1\nMeeting ID: 943 2406 1641
URL:https://cpvb.org/event/tbd-6/
LOCATION:VA Hospital – Providence\, 830 Chalkstone Avenue\, Providence\, RI\, 02908\, United States
CATEGORIES:Conference
END:VEVENT
BEGIN:VEVENT
DTSTART;TZID=America/New_York:20260609T150000
DTEND;TZID=America/New_York:20260609T160000
DTSTAMP:20260421T153039
CREATED:20250916T203348Z
LAST-MODIFIED:20250916T203348Z
UID:4751-1781017200-1781020800@cpvb.org
SUMMARY:Yao Lab
DESCRIPTION:Presenter: Hongwei Yao\, PhD\nIn person only
URL:https://cpvb.org/event/yao-lab-2/
LOCATION:VA Hospital – Providence\, 830 Chalkstone Avenue\, Providence\, RI\, 02908\, United States
CATEGORIES:VRL Research in Progress
END:VEVENT
END:VCALENDAR