BEGIN:VCALENDAR
VERSION:2.0
PRODID:-//Ocean State Research Institute - ECPv6.15.17.1//NONSGML v1.0//EN
CALSCALE:GREGORIAN
METHOD:PUBLISH
X-ORIGINAL-URL:https://cpvb.org
X-WR-CALDESC:Events for Ocean State Research Institute
REFRESH-INTERVAL;VALUE=DURATION:PT1H
X-Robots-Tag:noindex
X-PUBLISHED-TTL:PT1H
BEGIN:VTIMEZONE
TZID:America/New_York
BEGIN:DAYLIGHT
TZOFFSETFROM:-0500
TZOFFSETTO:-0400
TZNAME:EDT
DTSTART:20230312T070000
END:DAYLIGHT
BEGIN:STANDARD
TZOFFSETFROM:-0400
TZOFFSETTO:-0500
TZNAME:EST
DTSTART:20231105T060000
END:STANDARD
BEGIN:DAYLIGHT
TZOFFSETFROM:-0500
TZOFFSETTO:-0400
TZNAME:EDT
DTSTART:20240310T070000
END:DAYLIGHT
BEGIN:STANDARD
TZOFFSETFROM:-0400
TZOFFSETTO:-0500
TZNAME:EST
DTSTART:20241103T060000
END:STANDARD
BEGIN:DAYLIGHT
TZOFFSETFROM:-0500
TZOFFSETTO:-0400
TZNAME:EDT
DTSTART:20250309T070000
END:DAYLIGHT
BEGIN:STANDARD
TZOFFSETFROM:-0400
TZOFFSETTO:-0500
TZNAME:EST
DTSTART:20251102T060000
END:STANDARD
BEGIN:DAYLIGHT
TZOFFSETFROM:-0500
TZOFFSETTO:-0400
TZNAME:EDT
DTSTART:20260308T070000
END:DAYLIGHT
BEGIN:STANDARD
TZOFFSETFROM:-0400
TZOFFSETTO:-0500
TZNAME:EST
DTSTART:20261101T060000
END:STANDARD
END:VTIMEZONE
BEGIN:VEVENT
DTSTART;TZID=America/New_York:20241025T150000
DTEND;TZID=America/New_York:20241025T160000
DTSTAMP:20260422T182457
CREATED:20240919T150458Z
LAST-MODIFIED:20250107T153528Z
UID:4399-1729868400-1729872000@cpvb.org
SUMMARY:Kathleen Tran\, PhD - Cancelled
DESCRIPTION:Cancelled \nPresenter: Kathleen Tran\, PhD
URL:https://cpvb.org/event/kathleen-tran-phd/
LOCATION:VA Hospital – Providence\, 830 Chalkstone Avenue\, Providence\, RI\, 02908\, United States
CATEGORIES:Conference
END:VEVENT
BEGIN:VEVENT
DTSTART;TZID=America/New_York:20241101T150000
DTEND;TZID=America/New_York:20241101T160000
DTSTAMP:20260422T182457
CREATED:20240919T150539Z
LAST-MODIFIED:20250107T153619Z
UID:4402-1730473200-1730476800@cpvb.org
SUMMARY:Yang Zhou\, PhD - Exploring the Uncommon: Rare Lung Disease\, Infrequent Cell Type\, and Unexpected Interferon Signaling
DESCRIPTION:Exploring the Uncommon: Rare Lung Disease\, Infrequent Cell Type\, and Unexpected Interferon Signaling \nPresenter: Yang Zhou\, PhD\nLocation: Providence VA Medical Center (830 Chalkstone Ave\, Providence\, RI 02908)\nBuilding #35 Conference Room 142/143 \nIn person attendance is encouraged. If unable\, please join us virtually\nJoin Zoom Meeting\nhttps://brown.zoom.us/j/94324061641?pwd=6lEnXlMmzKtJwFKACm5aQP6dlUyfbC.1 Meeting ID: 943 2406 1641
URL:https://cpvb.org/event/yang-zhou-phd-4/
LOCATION:VA Hospital – Providence\, 830 Chalkstone Avenue\, Providence\, RI\, 02908\, United States
CATEGORIES:Conference
END:VEVENT
BEGIN:VEVENT
DTSTART;TZID=America/New_York:20241108T150000
DTEND;TZID=America/New_York:20241108T160000
DTSTAMP:20260422T182457
CREATED:20240919T150602Z
LAST-MODIFIED:20250107T153645Z
UID:4405-1731078000-1731081600@cpvb.org
SUMMARY:Jun Yu \, MD - ER Remodeling in Inflammation and Vascular Disease
DESCRIPTION:ER Remodeling in Inflammation and Vascular Disease \nPresenter: Jun Yu \, MD\nLocation: Providence VA Medical Center (830 Chalkstone Ave\, Providence\, RI 02908)\nBuilding #35 Conference Room 142/143 \nIn person attendance is encouraged. If unable\, please join us virtually\nJoin Zoom Meeting\nhttps://brown.zoom.us/j/94324061641?pwd=6lEnXlMmzKtJwFKACm5aQP6dlUyfbC.1 Meeting ID: 943 2406 1641
URL:https://cpvb.org/event/jun-yu-md/
LOCATION:VA Hospital – Providence\, 830 Chalkstone Avenue\, Providence\, RI\, 02908\, United States
CATEGORIES:Conference
END:VEVENT
BEGIN:VEVENT
DTSTART;TZID=America/New_York:20241115T150000
DTEND;TZID=America/New_York:20241115T160000
DTSTAMP:20260422T182457
CREATED:20240919T150625Z
LAST-MODIFIED:20250107T153734Z
UID:4408-1731682800-1731686400@cpvb.org
SUMMARY:Hank Wu\, MD - Obesity and Cardiovascular Disease\, Case Study of Asian Americans
DESCRIPTION:Obesity and Cardiovascular Disease\, Case Study of Asian Americans \nPresenter: Hank Wu\, MD\nLocation: Providence VA Medical Center (830 Chalkstone Ave\, Providence\, RI 02908)\nBuilding #35 Conference Room 142/143 \nIn person attendance is encouraged. If unable\, please join us virtually\nJoin Zoom Meeting\nhttps://brown.zoom.us/j/94324061641?pwd=6lEnXlMmzKtJwFKACm5aQP6dlUyfbC.1 Meeting ID: 943 2406 1641
URL:https://cpvb.org/event/kaikobad-irani-md/
LOCATION:VA Hospital – Providence\, 830 Chalkstone Avenue\, Providence\, RI\, 02908\, United States
CATEGORIES:Conference
END:VEVENT
BEGIN:VEVENT
DTSTART;TZID=America/New_York:20241122T150000
DTEND;TZID=America/New_York:20241122T160000
DTSTAMP:20260422T182457
CREATED:20240919T150658Z
LAST-MODIFIED:20250107T153810Z
UID:4411-1732287600-1732291200@cpvb.org
SUMMARY:Tasnim Imran\, MD\, MPH - Mechanistic evaluation of heart failure with preserved ejection fraction using advanced imaging biomarkers
DESCRIPTION:Mechanistic evaluation of heart failure with preserved ejection fraction using advanced imaging biomarkers \nPresenter: Tasnim Imran\, MD\, MPH\nLocation: Providence VA Medical Center (830 Chalkstone Ave\, Providence\, RI 02908)\nBuilding #35 Conference Room 142/143 \nIn person attendance is encouraged. If unable\, please join us virtually\nJoin Zoom Meeting\nhttps://brown.zoom.us/j/94324061641?pwd=6lEnXlMmzKtJwFKACm5aQP6dlUyfbC.1 Meeting ID: 943 2406 1641
URL:https://cpvb.org/event/tasnim-imran-md-mph/
LOCATION:VA Hospital – Providence\, 830 Chalkstone Avenue\, Providence\, RI\, 02908\, United States
CATEGORIES:Conference
END:VEVENT
BEGIN:VEVENT
DTSTART;VALUE=DATE:20241129
DTEND;VALUE=DATE:20241130
DTSTAMP:20260422T182457
CREATED:20250107T153847Z
LAST-MODIFIED:20250107T153847Z
UID:4523-1732838400-1732924799@cpvb.org
SUMMARY:Thanksgiving Break
DESCRIPTION:Thanksgiving Break
URL:https://cpvb.org/event/thanksgiving-break/
LOCATION:VA Hospital – Providence\, 830 Chalkstone Avenue\, Providence\, RI\, 02908\, United States
CATEGORIES:Cardiac & Vascular Biology Research Seminar - Weekly Seminar Series
END:VEVENT
BEGIN:VEVENT
DTSTART;TZID=America/New_York:20241206T150000
DTEND;TZID=America/New_York:20241206T160000
DTSTAMP:20260422T182457
CREATED:20240919T150727Z
LAST-MODIFIED:20250107T153923Z
UID:4414-1733497200-1733500800@cpvb.org
SUMMARY:Richard Clements\, PhD - Altered Mitochondrial Supercomplex Formation inHeart Failure and Neurodegenerative Disease
DESCRIPTION:Altered Mitochondrial Supercomplex Formation inHeart Failure and Neurodegenerative Disease \nPresenter: Richard Clements\, PhD\nLocation: Providence VA Medical Center (830 Chalkstone Ave\, Providence\, RI 02908)\nBuilding #35 Conference Room 142/143 \nIn person attendance is encouraged. If unable\, please join us virtually\nJoin Zoom Meeting\nhttps://brown.zoom.us/j/94324061641?pwd=6lEnXlMmzKtJwFKACm5aQP6dlUyfbC.1 Meeting ID: 943 2406 1641
URL:https://cpvb.org/event/richard-clements-phd/
LOCATION:VA Hospital – Providence\, 830 Chalkstone Avenue\, Providence\, RI\, 02908\, United States
CATEGORIES:Conference
END:VEVENT
BEGIN:VEVENT
DTSTART;TZID=America/New_York:20241213T150000
DTEND;TZID=America/New_York:20241213T160000
DTSTAMP:20260422T182457
CREATED:20240919T150759Z
LAST-MODIFIED:20250107T154005Z
UID:4417-1734102000-1734105600@cpvb.org
SUMMARY:Jingyan Han\, PhD - Redox Signaling in Endothelial Cells and Atherogenesis
DESCRIPTION:Redox Signaling in Endothelial Cells and Atherogenesis \nPresenter: Jingyan Han\, PhD\nLocation: Providence VA Medical Center (830 Chalkstone Ave\, Providence\, RI 02908)\nBuilding #35 Conference Room 142/143 \nIn person attendance is encouraged. If unable\, please join us virtually\nJoin Zoom Meeting\nhttps://brown.zoom.us/j/94324061641?pwd=6lEnXlMmzKtJwFKACm5aQP6dlUyfbC.1 Meeting ID: 943 2406 1641
URL:https://cpvb.org/event/jingyan-han-phd/
LOCATION:VA Hospital – Providence\, 830 Chalkstone Avenue\, Providence\, RI\, 02908\, United States
CATEGORIES:Conference
END:VEVENT
BEGIN:VEVENT
DTSTART;TZID=America/New_York:20241220T150000
DTEND;TZID=America/New_York:20241220T160000
DTSTAMP:20260422T182457
CREATED:20240919T150828Z
LAST-MODIFIED:20250107T154035Z
UID:4420-1734706800-1734710400@cpvb.org
SUMMARY:Jun Feng\, MD\, PhD - PKC-beta Modulation of SK Channel and Microvascular/Endothelial Function
DESCRIPTION:PKC-beta Modulation of SK Channel and Microvascular/Endothelial Function \nPresenter: Jun Feng\, MD\, PhD\nLocation: Providence VA Medical Center (830 Chalkstone Ave\, Providence\, RI 02908)\nBuilding #35 Conference Room 142/143 \nIn person attendance is encouraged. If unable\, please join us virtually\nJoin Zoom Meeting\nhttps://brown.zoom.us/j/94324061641?pwd=6lEnXlMmzKtJwFKACm5aQP6dlUyfbC.1 Meeting ID: 943 2406 1641
URL:https://cpvb.org/event/jun-feng-md-phd-2/
LOCATION:VA Hospital – Providence\, 830 Chalkstone Avenue\, Providence\, RI\, 02908\, United States
CATEGORIES:Conference
END:VEVENT
BEGIN:VEVENT
DTSTART;VALUE=DATE:20241227
DTEND;VALUE=DATE:20241228
DTSTAMP:20260422T182457
CREATED:20250107T154111Z
LAST-MODIFIED:20250107T154111Z
UID:4532-1735257600-1735343999@cpvb.org
SUMMARY:Christmas Break
DESCRIPTION:Christmas Break
URL:https://cpvb.org/event/christmas-break/
LOCATION:VA Hospital – Providence\, 830 Chalkstone Avenue\, Providence\, RI\, 02908\, United States
CATEGORIES:Cardiac & Vascular Biology Research Seminar - Weekly Seminar Series
END:VEVENT
BEGIN:VEVENT
DTSTART;VALUE=DATE:20250103
DTEND;VALUE=DATE:20250104
DTSTAMP:20260422T182457
CREATED:20250107T154145Z
LAST-MODIFIED:20250107T154145Z
UID:4535-1735862400-1735948799@cpvb.org
SUMMARY:New Year's Break
DESCRIPTION:New Year’s Break
URL:https://cpvb.org/event/new-years-break/
LOCATION:VA Hospital – Providence\, 830 Chalkstone Avenue\, Providence\, RI\, 02908\, United States
CATEGORIES:Cardiac & Vascular Biology Research Seminar - Weekly Seminar Series
END:VEVENT
BEGIN:VEVENT
DTSTART;TZID=America/New_York:20250110T150000
DTEND;TZID=America/New_York:20250110T160000
DTSTAMP:20260422T182457
CREATED:20250107T154324Z
LAST-MODIFIED:20250107T191536Z
UID:4538-1736521200-1736524800@cpvb.org
SUMMARY:William Oldham\, MD\, PhD - Taking the bull by the horns: Taurine metabolism in pulmonary hypertension
DESCRIPTION:Taking the bull by the horns: Taurine metabolism in pulmonary hypertension \nPresenter: William Oldham\, MD\, PhD\nLocation: Providence VA Medical Center (830 Chalkstone Ave\, Providence\, RI 02908)\nBuilding #35 Conference Room 142/143 \nIn person attendance is encouraged. If unable\, please join us virtually\nJoin Zoom Meeting\nhttps://brown.zoom.us/j/94324061641?pwd=6lEnXlMmzKtJwFKACm5aQP6dlUyfbC.1 Meeting ID: 943 2406 1641
URL:https://cpvb.org/event/william-oldham-md-phd-taking-the-bull-by-the-horns-taurine-metabolism-in-pulmonary-hypertension/
LOCATION:VA Hospital – Providence\, 830 Chalkstone Avenue\, Providence\, RI\, 02908\, United States
CATEGORIES:Cardiac & Vascular Biology Research Seminar - Weekly Seminar Series
END:VEVENT
BEGIN:VEVENT
DTSTART;TZID=America/New_York:20250117T150000
DTEND;TZID=America/New_York:20250117T160000
DTSTAMP:20260422T182457
CREATED:20250107T190347Z
LAST-MODIFIED:20250116T184818Z
UID:4543-1737126000-1737129600@cpvb.org
SUMMARY:Kareen Coulombe\, PhD - Resilient Engineered Human Myocardium for Heart Regeneration Post-MI
DESCRIPTION:Resilient Engineered Human Myocardium for Heart Regeneration Post-MI\nPresenter: Kareen Coulombe\, PhD\nLocation: Providence VA Medical Center (830 Chalkstone Ave\, Providence\, RI 02908)\nBuilding #35 Conference Room 142/143 \nIn person attendance is encouraged. If unable\, please join us virtually\nJoin Zoom Meeting\nhttps://brown.zoom.us/j/94324061641?pwd=6lEnXlMmzKtJwFKACm5aQP6dlUyfbC.1 Meeting ID: 943 2406 1641
URL:https://cpvb.org/event/kareen-coulombe-phd-2/
LOCATION:VA Hospital – Providence\, 830 Chalkstone Avenue\, Providence\, RI\, 02908\, United States
CATEGORIES:Conference
END:VEVENT
BEGIN:VEVENT
DTSTART;TZID=America/New_York:20250124T150000
DTEND;TZID=America/New_York:20250124T160000
DTSTAMP:20260422T182457
CREATED:20240919T150859Z
LAST-MODIFIED:20250116T184403Z
UID:4423-1737730800-1737734400@cpvb.org
SUMMARY:Rajan Sah\, MD\, PhD - Mechanoelectrical Regulation of Thrombosis: a SWELL target LRRCing (lurking) in Platelets
DESCRIPTION:Mechanoelectrical Regulation of Thrombosis: a SWELL target LRRCing (lurking) in Platelets\nPresenter: Rajan Sah\, MD\, PhD\nLocation: Providence VA Medical Center (830 Chalkstone Ave\, Providence\, RI 02908)\nBuilding #35 Conference Room 142/143 \nIn person attendance is encouraged. If unable\, please join us virtually\nJoin Zoom Meeting\nhttps://brown.zoom.us/j/94324061641?pwd=6lEnXlMmzKtJwFKACm5aQP6dlUyfbC.1 Meeting ID: 943 2406 1641
URL:https://cpvb.org/event/rajan-sah-md-phd/
LOCATION:VA Hospital – Providence\, 830 Chalkstone Avenue\, Providence\, RI\, 02908\, United States
CATEGORIES:Conference
END:VEVENT
BEGIN:VEVENT
DTSTART;TZID=America/New_York:20250131T150000
DTEND;TZID=America/New_York:20250131T160000
DTSTAMP:20260422T182457
CREATED:20240919T150924Z
LAST-MODIFIED:20250127T192021Z
UID:4426-1738335600-1738339200@cpvb.org
SUMMARY:Elucidating Mechanisms of Atrial Versus Ventricular Arrhythmias in Metabolic Syndrome Using in vitro Human iPSC-derived Cardiac Organoids - Bum-Rak Choi\, PhD
DESCRIPTION:Elucidating Mechanisms of Atrial Versus Ventricular Arrhythmias in Metabolic Syndrome Using in vitro Human iPSC-derived Cardiac Organoids\nPresenter: Bum-Rak Choi\, PhD\nLocation: Providence VA Medical Center (830 Chalkstone Ave\, Providence\, RI 02908)\nBuilding #35 Conference Room 142/143 \nIn person attendance is encouraged. If unable\, please join us virtually\nJoin Zoom Meeting\nhttps://brown.zoom.us/j/94324061641?pwd=6lEnXlMmzKtJwFKACm5aQP6dlUyfbC.1 Meeting ID: 943 2406 1641
URL:https://cpvb.org/event/bum-rak-choi-phd/
LOCATION:VA Hospital – Providence\, 830 Chalkstone Avenue\, Providence\, RI\, 02908\, United States
CATEGORIES:Conference
END:VEVENT
BEGIN:VEVENT
DTSTART;TZID=America/New_York:20250207T150000
DTEND;TZID=America/New_York:20250207T160000
DTSTAMP:20260422T182457
CREATED:20240919T150959Z
LAST-MODIFIED:20250204T160829Z
UID:4429-1738940400-1738944000@cpvb.org
SUMMARY:Federica Accornero\, PhD -  The Impact of Modifying RNA in the Heart
DESCRIPTION:The Impact of Modifying RNA in the Heart\nPresenter: Federica Accornero\, PhD\nLocation: Providence VA Medical Center (830 Chalkstone Ave\, Providence\, RI 02908)\nBuilding #35 Conference Room 142/143 \nIn person attendance is encouraged. If unable\, please join us virtually\nJoin Zoom Meeting\nhttps://brown.zoom.us/j/94324061641?pwd=6lEnXlMmzKtJwFKACm5aQP6dlUyfbC.1 Meeting ID: 943 2406 1641
URL:https://cpvb.org/event/federica-accornero-phd/
LOCATION:VA Hospital – Providence\, 830 Chalkstone Avenue\, Providence\, RI\, 02908\, United States
CATEGORIES:Conference
END:VEVENT
BEGIN:VEVENT
DTSTART;TZID=America/New_York:20250214T150000
DTEND;TZID=America/New_York:20250214T160000
DTSTAMP:20260422T182457
CREATED:20250204T161217Z
LAST-MODIFIED:20250204T164318Z
UID:4584-1739545200-1739548800@cpvb.org
SUMMARY:Xin Li\, PhD Candidate - Macrophage Heterogeneity and Function in the Lung
DESCRIPTION:Macrophage Heterogeneity and Function in the Lung\nPresenter: Xin Li\, PhD Candidate\nLocation: Providence VA Medical Center (830 Chalkstone Ave\, Providence\, RI 02908)\nBuilding #35 Conference Room 142/143 \nVirtual Only\nJoin Zoom Meeting\nhttps://brown.zoom.us/j/94324061641?pwd=6lEnXlMmzKtJwFKACm5aQP6dlUyfbC.1 Meeting ID: 943 2406 1641
URL:https://cpvb.org/event/xin-li-macrophage-heterogeneity-and-function-in-the-lung/
LOCATION:Zoom
CATEGORIES:Conference
END:VEVENT
BEGIN:VEVENT
DTSTART;TZID=America/New_York:20250221T150000
DTEND;TZID=America/New_York:20250221T160000
DTSTAMP:20260422T182457
CREATED:20250107T190453Z
LAST-MODIFIED:20250212T165037Z
UID:4548-1740150000-1740153600@cpvb.org
SUMMARY:Stephanie Thorn\, MSc\, PhD - Noninvasive Imaging of the Right Ventricle
DESCRIPTION:Noninvasive Imaging of the Right Ventricle\nPresenter: Stephanie Thorn\, MSc\, PhD\nLocation: Providence VA Medical Center (830 Chalkstone Ave\, Providence\, RI 02908)\nBuilding #35 Conference Room 142/143 \nIn person attendance is encouraged. If unable\, please join us virtually\nJoin Zoom Meeting\nhttps://brown.zoom.us/j/94324061641?pwd=6lEnXlMmzKtJwFKACm5aQP6dlUyfbC.1 Meeting ID: 943 2406 1641
URL:https://cpvb.org/event/stephanie-thorn-msc-phd/
LOCATION:VA Hospital – Providence\, 830 Chalkstone Avenue\, Providence\, RI\, 02908\, United States
CATEGORIES:Conference
END:VEVENT
BEGIN:VEVENT
DTSTART;TZID=America/New_York:20250228T150000
DTEND;TZID=America/New_York:20250228T160000
DTSTAMP:20260422T182457
CREATED:20240919T151019Z
LAST-MODIFIED:20250220T194057Z
UID:4432-1740754800-1740758400@cpvb.org
SUMMARY:Hongwei Yao\, PhD - Metabolic mechanisms of pulmonary vascular remodeling in neonates
DESCRIPTION:Metabolic mechanisms of pulmonary vascular remodeling in neonates\n﻿Presenter: Hongwei Yao\, PhD\nLocation: Providence VA Medical Center (830 Chalkstone Ave\, Providence\, RI 02908)\nBuilding #35 Conference Room 142/143 \nIn person attendance is encouraged. If unable\, please join us virtually\nJoin Zoom Meeting\nhttps://brown.zoom.us/j/94324061641?pwd=6lEnXlMmzKtJwFKACm5aQP6dlUyfbC.1 Meeting ID: 943 2406 1641
URL:https://cpvb.org/event/hongwei-yao-phd-4/
LOCATION:VA Hospital – Providence\, 830 Chalkstone Avenue\, Providence\, RI\, 02908\, United States
CATEGORIES:Conference
END:VEVENT
BEGIN:VEVENT
DTSTART;TZID=America/New_York:20250307T150000
DTEND;TZID=America/New_York:20250307T160000
DTSTAMP:20260422T182457
CREATED:20240919T151051Z
LAST-MODIFIED:20250312T170549Z
UID:4435-1741359600-1741363200@cpvb.org
SUMMARY:Frank Sellke\, MD – Update on Improving Myocardial Function and Perfusion with Drugs and Cells
DESCRIPTION:Presenter: Frank Sellke\, MD\nLocation: Providence VA Medical Center (830 Chalkstone Ave\, Providence\, RI 02908)\nBuilding #35 Conference Room 142/143 \nIn person attendance is encouraged. If unable\, please join us virtually\nJoin Zoom Meeting\nhttps://brown.zoom.us/j/94324061641?pwd=6lEnXlMmzKtJwFKACm5aQP6dlUyfbC.1 Meeting ID: 943 2406 1641
URL:https://cpvb.org/event/frank-sellke-md-3/
LOCATION:VA Hospital – Providence\, 830 Chalkstone Avenue\, Providence\, RI\, 02908\, United States
CATEGORIES:Conference
END:VEVENT
BEGIN:VEVENT
DTSTART;TZID=America/New_York:20250314T150000
DTEND;TZID=America/New_York:20250314T160000
DTSTAMP:20260422T182457
CREATED:20240919T151114Z
LAST-MODIFIED:20250312T170626Z
UID:4438-1741964400-1741968000@cpvb.org
SUMMARY:Peter Bronk\, PhD – Targeting Inflammation and Oxidative Stress to Alleviate Cardiac Arrhythmia Risk in Sickle Cell Disease
DESCRIPTION:Presenter: Peter Bronk\, PhD\nLocation: Providence VA Medical Center (830 Chalkstone Ave\, Providence\, RI 02908)\nBuilding #35 Conference Room 142/143 \nIn person attendance is encouraged. If unable\, please join us virtually\nJoin Zoom Meeting\nhttps://brown.zoom.us/j/94324061641?pwd=6lEnXlMmzKtJwFKACm5aQP6dlUyfbC.1 Meeting ID: 943 2406 1641
URL:https://cpvb.org/event/peter-bronk-phd-targeting-inflammation-and-oxidative-stress-to-alleviate-cardiac-arrhythmia-risk-in-sickle-cell-disease/
LOCATION:VA Hospital – Providence\, 830 Chalkstone Avenue\, Providence\, RI\, 02908\, United States
CATEGORIES:Conference
END:VEVENT
BEGIN:VEVENT
DTSTART;TZID=America/New_York:20250321T150000
DTEND;TZID=America/New_York:20250321T160000
DTSTAMP:20260422T182457
CREATED:20250107T190607Z
LAST-MODIFIED:20250317T200204Z
UID:4551-1742569200-1742572800@cpvb.org
SUMMARY:Joseph Schrader\, PhD – Uncovering Mechanisms and Biomarkers of Cerebral Amyloid Angiopathy-Related Inflammation
DESCRIPTION:Presenter: Joseph Schrader\, PhD\nLocation: Providence VA Medical Center (830 Chalkstone Ave\, Providence\, RI 02908)\nBuilding #35 Conference Room 142/143 \nIn person attendance is encouraged. If unable\, please join us virtually\nJoin Zoom Meeting\nhttps://brown.zoom.us/j/94324061641?pwd=6lEnXlMmzKtJwFKACm5aQP6dlUyfbC.1 Meeting ID: 943 2406 1641
URL:https://cpvb.org/event/joseph-schrader-phd/
LOCATION:VA Hospital – Providence\, 830 Chalkstone Avenue\, Providence\, RI\, 02908\, United States
CATEGORIES:Conference
END:VEVENT
BEGIN:VEVENT
DTSTART;TZID=America/New_York:20250404T150000
DTEND;TZID=America/New_York:20250404T160000
DTSTAMP:20260422T182457
CREATED:20250107T190705Z
LAST-MODIFIED:20250408T131325Z
UID:4554-1743778800-1743782400@cpvb.org
SUMMARY:Wenliang Song\, MD - Harnessing Bioactive Lipids on Lipoproteins to Reduce Residual Cardiometabolic Risk
DESCRIPTION:Harnessing Bioactive Lipids on Lipoproteins to Reduce Residual Cardiometabolic Risk\nPresenter: Wenliang Song\, MD\nLocation: Providence VA Medical Center (830 Chalkstone Ave\, Providence\, RI 02908)\nBuilding #35 Conference Room 142/143 \nIn person attendance is encouraged. If unable\, please join us virtually\nJoin Zoom Meeting\nhttps://brown.zoom.us/j/94324061641?pwd=6lEnXlMmzKtJwFKACm5aQP6dlUyfbC.1 Meeting ID: 943 2406 1641
URL:https://cpvb.org/event/wenliang-song-md/
LOCATION:VA Hospital – Providence\, 830 Chalkstone Avenue\, Providence\, RI\, 02908\, United States
CATEGORIES:Conference
END:VEVENT
BEGIN:VEVENT
DTSTART;TZID=America/New_York:20250411T150000
DTEND;TZID=America/New_York:20250411T160000
DTSTAMP:20260422T182457
CREATED:20240919T151140Z
LAST-MODIFIED:20250408T131500Z
UID:4441-1744383600-1744387200@cpvb.org
SUMMARY:Alan Morrison\, MD\, PhD – Reversing the Impact of Aging on Arteriogenesis
DESCRIPTION:Reversing the Impact of Aging on Arteriogenesis\nPresenter: Alan Morrison\, MD\, PhD\nLocation: Providence VA Medical Center (830 Chalkstone Ave\, Providence\, RI 02908)\nBuilding #35 Conference Room 142/143 \nIn person attendance is encouraged. If unable\, please join us virtually\nJoin Zoom Meeting\nhttps://brown.zoom.us/j/94324061641?pwd=6lEnXlMmzKtJwFKACm5aQP6dlUyfbC.1 Meeting ID: 943 2406 1641
URL:https://cpvb.org/event/alan-morrison-md-phd-reversing-the-impact-of-aging-on-arteriogenesis/
LOCATION:VA Hospital – Providence\, 830 Chalkstone Avenue\, Providence\, RI\, 02908\, United States
CATEGORIES:Conference
END:VEVENT
BEGIN:VEVENT
DTSTART;TZID=America/New_York:20250418T150000
DTEND;TZID=America/New_York:20250418T160000
DTSTAMP:20260422T182457
CREATED:20240919T151209Z
LAST-MODIFIED:20250410T155819Z
UID:4444-1744988400-1744992000@cpvb.org
SUMMARY:Ana Mora\, MD – Mitochondrial dysfunction at the spotlight of Lung Aging and Disease
DESCRIPTION:Mitochondrial dysfunction at the spotlight of Lung Aging and Disease\nPresenter: Ana Mora\, MD\nLocation: Providence VA Medical Center (830 Chalkstone Ave\, Providence\, RI 02908)\nBuilding #35 Conference Room 142/143 \nIn person attendance is encouraged. If unable\, please join us virtually\nJoin Zoom Meeting\nhttps://brown.zoom.us/j/94324061641?pwd=6lEnXlMmzKtJwFKACm5aQP6dlUyfbC.1 Meeting ID: 943 2406 1641
URL:https://cpvb.org/event/ana-mora-md/
LOCATION:VA Hospital – Providence\, 830 Chalkstone Avenue\, Providence\, RI\, 02908\, United States
CATEGORIES:Conference
END:VEVENT
BEGIN:VEVENT
DTSTART;TZID=America/New_York:20250425T150000
DTEND;TZID=America/New_York:20250425T160000
DTSTAMP:20260422T182457
CREATED:20240919T151309Z
LAST-MODIFIED:20250424T151231Z
UID:4450-1745593200-1745596800@cpvb.org
SUMMARY:Ting Zhao\, MD\, PhD – Function of HDACs and Irisin in Cardiac Protection and Insulin Resistance
DESCRIPTION:Function of HDACs and Irisin in Cardiac Protection and Insulin Resistance\nPresenter: Ting Zhao\, MD\, PhD\nLocation: Providence VA Medical Center (830 Chalkstone Ave\, Providence\, RI 02908)\nBuilding #35 Conference Room 142/143 \nIn person attendance is encouraged. If unable\, please join us virtually\nJoin Zoom Meeting\nhttps://brown.zoom.us/j/94324061641?pwd=6lEnXlMmzKtJwFKACm5aQP6dlUyfbC.1 Meeting ID: 943 2406 1641
URL:https://cpvb.org/event/ting-zhao-md-phd/
LOCATION:VA Hospital – Providence\, 830 Chalkstone Avenue\, Providence\, RI\, 02908\, United States
CATEGORIES:Conference
END:VEVENT
BEGIN:VEVENT
DTSTART;TZID=America/New_York:20250502T150000
DTEND;TZID=America/New_York:20250502T160000
DTSTAMP:20260422T182457
CREATED:20240919T151234Z
LAST-MODIFIED:20250424T162405Z
UID:4447-1746198000-1746201600@cpvb.org
SUMMARY:Adeel Abbasi\, MD\, ScM – Markers of Complications in Extracorporeal Membrane Oxygenation
DESCRIPTION:Markers of Complications in Extracorporeal Membrane Oxygenation\nPresenter: Adeel Abbasi\, MD\, ScM\nLocation: Providence VA Medical Center (830 Chalkstone Ave\, Providence\, RI 02908)\nBuilding #35 Conference Room 142/143 \nIn person attendance is encouraged. If unable\, please join us virtually\nJoin Zoom Meeting\nhttps://brown.zoom.us/j/94324061641?pwd=6lEnXlMmzKtJwFKACm5aQP6dlUyfbC.1 Meeting ID: 943 2406 1641
URL:https://cpvb.org/event/adeel-abbasi-md-scm/
LOCATION:VA Hospital – Providence\, 830 Chalkstone Avenue\, Providence\, RI\, 02908\, United States
CATEGORIES:Conference
END:VEVENT
BEGIN:VEVENT
DTSTART;TZID=America/New_York:20250509T150000
DTEND;TZID=America/New_York:20250509T160000
DTSTAMP:20260422T182457
CREATED:20240919T151328Z
LAST-MODIFIED:20240919T151328Z
UID:4453-1746802800-1746806400@cpvb.org
SUMMARY:Corey Ventetuolo\, MD\, MS
DESCRIPTION:Presenter: Corey Ventetuolo\, MD\, MS\nLocation: Providence VA Medical Center (830 Chalkstone Ave\, Providence\, RI 02908)\nBuilding #35 Conference Room 142/143 \nIn person attendance is encouraged. If unable\, please join us virtually\nJoin Zoom Meeting\nhttps://brown.zoom.us/j/94324061641?pwd=6lEnXlMmzKtJwFKACm5aQP6dlUyfbC.1 Meeting ID: 943 2406 1641
URL:https://cpvb.org/event/corey-ventetuolo-md-ms/
LOCATION:VA Hospital – Providence\, 830 Chalkstone Avenue\, Providence\, RI\, 02908\, United States
CATEGORIES:Conference
END:VEVENT
BEGIN:VEVENT
DTSTART;TZID=America/New_York:20250516T150000
DTEND;TZID=America/New_York:20250516T160000
DTSTAMP:20260422T182457
CREATED:20240919T151348Z
LAST-MODIFIED:20240919T151348Z
UID:4456-1747407600-1747411200@cpvb.org
SUMMARY:Chris Mantsounga\, PhD
DESCRIPTION:Presenter: Chris Mantsounga\, PhD\nLocation: Providence VA Medical Center (830 Chalkstone Ave\, Providence\, RI 02908)\nBuilding #35 Conference Room 142/143 \nIn person attendance is encouraged. If unable\, please join us virtually\nJoin Zoom Meeting\nhttps://brown.zoom.us/j/94324061641?pwd=6lEnXlMmzKtJwFKACm5aQP6dlUyfbC.1 Meeting ID: 943 2406 1641
URL:https://cpvb.org/event/chris-mantsounga-phd/
LOCATION:VA Hospital – Providence\, 830 Chalkstone Avenue\, Providence\, RI\, 02908\, United States
CATEGORIES:Conference
END:VEVENT
BEGIN:VEVENT
DTSTART;TZID=America/New_York:20250530T150000
DTEND;TZID=America/New_York:20250530T160000
DTSTAMP:20260422T182457
CREATED:20250212T165158Z
LAST-MODIFIED:20250317T200252Z
UID:4595-1748617200-1748620800@cpvb.org
SUMMARY:Havovi Chichger\, PhD
DESCRIPTION:Presenter: Havovi Chichger\, PhD\nLocation: Providence VA Medical Center (830 Chalkstone Ave\, Providence\, RI 02908)\nBuilding #35 Conference Room 142/143 \nIn person attendance is encouraged. If unable\, please join us virtually\nJoin Zoom Meeting\nhttps://brown.zoom.us/j/94324061641?pwd=6lEnXlMmzKtJwFKACm5aQP6dlUyfbC.1 Meeting ID: 943 2406 1641
URL:https://cpvb.org/event/havovi-chichger-phd/
LOCATION:VA Hospital – Providence\, 830 Chalkstone Avenue\, Providence\, RI\, 02908\, United States
CATEGORIES:Conference
END:VEVENT
END:VCALENDAR