BEGIN:VCALENDAR
VERSION:2.0
PRODID:-//Ocean State Research Institute - ECPv6.15.17.1//NONSGML v1.0//EN
CALSCALE:GREGORIAN
METHOD:PUBLISH
X-WR-CALNAME:Ocean State Research Institute
X-ORIGINAL-URL:https://cpvb.org
X-WR-CALDESC:Events for Ocean State Research Institute
REFRESH-INTERVAL;VALUE=DURATION:PT1H
X-Robots-Tag:noindex
X-PUBLISHED-TTL:PT1H
BEGIN:VTIMEZONE
TZID:America/New_York
BEGIN:DAYLIGHT
TZOFFSETFROM:-0500
TZOFFSETTO:-0400
TZNAME:EDT
DTSTART:20180311T070000
END:DAYLIGHT
BEGIN:STANDARD
TZOFFSETFROM:-0400
TZOFFSETTO:-0500
TZNAME:EST
DTSTART:20181104T060000
END:STANDARD
BEGIN:DAYLIGHT
TZOFFSETFROM:-0500
TZOFFSETTO:-0400
TZNAME:EDT
DTSTART:20190310T070000
END:DAYLIGHT
BEGIN:STANDARD
TZOFFSETFROM:-0400
TZOFFSETTO:-0500
TZNAME:EST
DTSTART:20191103T060000
END:STANDARD
BEGIN:DAYLIGHT
TZOFFSETFROM:-0500
TZOFFSETTO:-0400
TZNAME:EDT
DTSTART:20200308T070000
END:DAYLIGHT
BEGIN:STANDARD
TZOFFSETFROM:-0400
TZOFFSETTO:-0500
TZNAME:EST
DTSTART:20201101T060000
END:STANDARD
BEGIN:DAYLIGHT
TZOFFSETFROM:-0500
TZOFFSETTO:-0400
TZNAME:EDT
DTSTART:20210314T070000
END:DAYLIGHT
BEGIN:STANDARD
TZOFFSETFROM:-0400
TZOFFSETTO:-0500
TZNAME:EST
DTSTART:20211107T060000
END:STANDARD
END:VTIMEZONE
BEGIN:VEVENT
DTSTART;TZID=America/New_York:20200626T150000
DTEND;TZID=America/New_York:20200626T160000
DTSTAMP:20260422T180147
CREATED:20200427T150626Z
LAST-MODIFIED:20200615T174222Z
UID:2973-1593183600-1593187200@cpvb.org
SUMMARY:Crafting an Elevator Talk – Emily Green\, PhD
DESCRIPTION:Crafting an Elevator Talk\nEmily Green\, PhD \nZoom Meeting\nhttps://brown.zoom.us/j/625810677\nMeeting ID: 625 810 677 \nOne tap mobile\n+16465588656\,\,625810677# US (New York)\n+13126266799\,\,625810677# US (Chicago)\nDial by your location\n+1 646 558 8656 US (New York)\n+1 312 626 6799 US (Chicago)\n+1 669 900 6833 US (San Jose)\n+1 253 215 8782 US\n+1 301 715 8592 US\n+1 346 248 7799 US (Houston)\n877 853 5247 US Toll-free\n877 369 0926 US Toll-free\nMeeting ID: 625 810 677 \nFind your local number: https://brown.zoom.us/u/adhqqOvE8V \nJoin by SIP\n625810677@zoomcrc.com\nJoin by H.323\n162.255.37.11 (US West)\n162.255.36.11 (US East)\n221.122.88.195 (China)\n115.114.131.7 (India Mumbai)\n115.114.115.7 (India Hyderabad)\n213.19.144.110 (EMEA)\n103.122.166.55 (Australia)\n209.9.211.110 (Hong Kong)\n64.211.144.160 (Brazil)\n69.174.57.160 (Canada)\n207.226.132.110 (Japan)\nMeeting ID: 625 810 677
URL:https://cpvb.org/event/emily-green-phd/
CATEGORIES:Cardiac & Vascular Biology Research Seminar - Weekly Seminar Series
END:VEVENT
BEGIN:VEVENT
DTSTART;TZID=America/New_York:20200611T130000
DTEND;TZID=America/New_York:20200611T154500
DTSTAMP:20260422T180147
CREATED:20200324T190454Z
LAST-MODIFIED:20200506T182902Z
UID:2858-1591880400-1591890300@cpvb.org
SUMMARY:RI IDeA Symposium
DESCRIPTION:RI IDeA Symposium\nZoom Meeting\nhttps://brown.zoom.us/j/625810677\nMeeting ID: 625 810 677 \nOne tap mobile\n+16465588656\,\,625810677# US (New York)\n+13126266799\,\,625810677# US (Chicago)\nDial by your location\n+1 646 558 8656 US (New York)\n+1 312 626 6799 US (Chicago)\n+1 669 900 6833 US (San Jose)\n+1 253 215 8782 US\n+1 301 715 8592 US\n+1 346 248 7799 US (Houston)\n877 853 5247 US Toll-free\n877 369 0926 US Toll-free\nMeeting ID: 625 810 677 \nFind your local number: https://brown.zoom.us/u/adhqqOvE8V \nJoin by SIP\n625810677@zoomcrc.com\nJoin by H.323\n162.255.37.11 (US West)\n162.255.36.11 (US East)\n221.122.88.195 (China)\n115.114.131.7 (India Mumbai)\n115.114.115.7 (India Hyderabad)\n213.19.144.110 (EMEA)\n103.122.166.55 (Australia)\n209.9.211.110 (Hong Kong)\n64.211.144.160 (Brazil)\n69.174.57.160 (Canada)\n207.226.132.110 (Japan)\nMeeting ID: 625 810 677
URL:https://cpvb.org/event/ri-idea-symposium/
LOCATION:RI\, United States
CATEGORIES:Conference
END:VEVENT
BEGIN:VEVENT
DTSTART;TZID=America/New_York:20200611T130000
DTEND;TZID=America/New_York:20200611T154500
DTSTAMP:20260422T180147
CREATED:20200324T190454Z
LAST-MODIFIED:20200506T182902Z
UID:2858-1591880400-1591890300@cpvb.org
SUMMARY:RI IDeA Symposium
DESCRIPTION:RI IDeA Symposium\nZoom Meeting\nhttps://brown.zoom.us/j/625810677\nMeeting ID: 625 810 677 \nOne tap mobile\n+16465588656\,\,625810677# US (New York)\n+13126266799\,\,625810677# US (Chicago)\nDial by your location\n+1 646 558 8656 US (New York)\n+1 312 626 6799 US (Chicago)\n+1 669 900 6833 US (San Jose)\n+1 253 215 8782 US\n+1 301 715 8592 US\n+1 346 248 7799 US (Houston)\n877 853 5247 US Toll-free\n877 369 0926 US Toll-free\nMeeting ID: 625 810 677 \nFind your local number: https://brown.zoom.us/u/adhqqOvE8V \nJoin by SIP\n625810677@zoomcrc.com\nJoin by H.323\n162.255.37.11 (US West)\n162.255.36.11 (US East)\n221.122.88.195 (China)\n115.114.131.7 (India Mumbai)\n115.114.115.7 (India Hyderabad)\n213.19.144.110 (EMEA)\n103.122.166.55 (Australia)\n209.9.211.110 (Hong Kong)\n64.211.144.160 (Brazil)\n69.174.57.160 (Canada)\n207.226.132.110 (Japan)\nMeeting ID: 625 810 677
URL:https://cpvb.org/event/ri-idea-symposium/
LOCATION:RI\, United States
CATEGORIES:Conference
END:VEVENT
BEGIN:VEVENT
DTSTART;TZID=America/New_York:20200529T150000
DTEND;TZID=America/New_York:20200529T160000
DTSTAMP:20260422T180147
CREATED:20190923T175353Z
LAST-MODIFIED:20200506T180815Z
UID:2714-1590764400-1590768000@cpvb.org
SUMMARY:Amanda Jamieson\, PhD – Enhancement of Immunologic Resilience to Complex Respiratory Infections
DESCRIPTION:Enhancement of Immunologic Resilience to Complex Respiratory Infections\n– Amanda Jamieson\, PhD \nZoom Meeting\nhttps://brown.zoom.us/j/625810677\nMeeting ID: 625 810 677 \nOne tap mobile\n+16465588656\,\,625810677# US (New York)\n+13126266799\,\,625810677# US (Chicago)\nDial by your location\n        +1 646 558 8656 US (New York)\n        +1 312 626 6799 US (Chicago)\n        +1 669 900 6833 US (San Jose)\n        +1 253 215 8782 US\n        +1 301 715 8592 US\n        +1 346 248 7799 US (Houston)\n        877 853 5247 US Toll-free\n        877 369 0926 US Toll-free\nMeeting ID: 625 810 677 \nFind your local number: https://brown.zoom.us/u/adhqqOvE8V \nJoin by SIP\n625810677@zoomcrc.com\nJoin by H.323\n162.255.37.11 (US West)\n162.255.36.11 (US East)\n221.122.88.195 (China)\n115.114.131.7 (India Mumbai)\n115.114.115.7 (India Hyderabad)\n213.19.144.110 (EMEA)\n103.122.166.55 (Australia)\n209.9.211.110 (Hong Kong)\n64.211.144.160 (Brazil)\n69.174.57.160 (Canada)\n207.226.132.110 (Japan)\nMeeting ID: 625 810 677
URL:https://cpvb.org/event/amanda-jamieson-phd/
LOCATION:RI\, United States
CATEGORIES:Cardiac & Vascular Biology Research Seminar - Weekly Seminar Series
END:VEVENT
BEGIN:VEVENT
DTSTART;TZID=America/New_York:20200515T150000
DTEND;TZID=America/New_York:20200515T160000
DTSTAMP:20260422T180147
CREATED:20190927T170432Z
LAST-MODIFIED:20200506T180945Z
UID:2717-1589554800-1589558400@cpvb.org
SUMMARY:Ruhul Abid\, PhD – Effects of Subcellular ROS on Coronary and Pulmonary Endothelium
DESCRIPTION:Effects of Subcellular ROS on Coronary and Pulmonary Endothelium\nRuhul Abid\, PhD \nZoom Meeting\nhttps://brown.zoom.us/j/625810677\nMeeting ID: 625 810 677 \nOne tap mobile\n+16465588656\,\,625810677# US (New York)\n+13126266799\,\,625810677# US (Chicago)\nDial by your location\n        +1 646 558 8656 US (New York)\n        +1 312 626 6799 US (Chicago)\n        +1 669 900 6833 US (San Jose)\n        +1 253 215 8782 US\n        +1 301 715 8592 US\n        +1 346 248 7799 US (Houston)\n        877 853 5247 US Toll-free\n        877 369 0926 US Toll-free\nMeeting ID: 625 810 677 \nFind your local number: https://brown.zoom.us/u/adhqqOvE8V \nJoin by SIP\n625810677@zoomcrc.com\nJoin by H.323\n162.255.37.11 (US West)\n162.255.36.11 (US East)\n221.122.88.195 (China)\n115.114.131.7 (India Mumbai)\n115.114.115.7 (India Hyderabad)\n213.19.144.110 (EMEA)\n103.122.166.55 (Australia)\n209.9.211.110 (Hong Kong)\n64.211.144.160 (Brazil)\n69.174.57.160 (Canada)\n207.226.132.110 (Japan)\nMeeting ID: 625 810 677
URL:https://cpvb.org/event/ruhul-abid-phd/
LOCATION:RI\, United States
CATEGORIES:Cardiac & Vascular Biology Research Seminar - Weekly Seminar Series
END:VEVENT
BEGIN:VEVENT
DTSTART;TZID=America/New_York:20200501T150000
DTEND;TZID=America/New_York:20200501T160000
DTSTAMP:20260422T180147
CREATED:20190923T153028Z
LAST-MODIFIED:20200413T145504Z
UID:2702-1588345200-1588348800@cpvb.org
SUMMARY:Fabiola Munarin\, PhD – Engineering Immunomodulatory Biomaterials for Heart Regeneration
DESCRIPTION:Engineering Immunomodulatory Biomaterials for Heart Regeneration\nFabiola Munarin\, PhD \nZoom Meeting\nhttps://brown.zoom.us/j/625810677\nMeeting ID: 625 810 677 \nOne tap mobile\n+16465588656\,\,625810677# US (New York)\n+13126266799\,\,625810677# US (Chicago)\nDial by your location\n        +1 646 558 8656 US (New York)\n        +1 312 626 6799 US (Chicago)\n        +1 669 900 6833 US (San Jose)\n        +1 253 215 8782 US\n        +1 301 715 8592 US\n        +1 346 248 7799 US (Houston)\n        877 853 5247 US Toll-free\n        877 369 0926 US Toll-free\nMeeting ID: 625 810 677 \nFind your local number: https://brown.zoom.us/u/adhqqOvE8V \nJoin by SIP\n625810677@zoomcrc.com\nJoin by H.323\n162.255.37.11 (US West)\n162.255.36.11 (US East)\n221.122.88.195 (China)\n115.114.131.7 (India Mumbai)\n115.114.115.7 (India Hyderabad)\n213.19.144.110 (EMEA)\n103.122.166.55 (Australia)\n209.9.211.110 (Hong Kong)\n64.211.144.160 (Brazil)\n69.174.57.160 (Canada)\n207.226.132.110 (Japan)\nMeeting ID: 625 810 677
URL:https://cpvb.org/event/fabiola-munarin-phd/
LOCATION:VA Hospital – Providence\, 830 Chalkstone Avenue\, Providence\, RI\, 02908\, United States
CATEGORIES:Cardiac & Vascular Biology Research Seminar - Weekly Seminar Series
END:VEVENT
BEGIN:VEVENT
DTSTART;TZID=America/New_York:20200424T120000
DTEND;TZID=America/New_York:20200424T130000
DTSTAMP:20260422T180147
CREATED:20190812T195214Z
LAST-MODIFIED:20200416T190757Z
UID:2621-1587729600-1587733200@cpvb.org
SUMMARY:Larissa A. Shimoda\, M.S.\, Ph.D – POSTPONED
DESCRIPTION:TO BE RESCHEDULED \nLarissa A. Shimoda\, M.S.\, Ph.D\nMPPB event
URL:https://cpvb.org/event/larissa-a-shimoda-m-s-ph-d/
LOCATION:Sydney Frank Building\, Brown Campus\, 185 Meeting Street\, Providence\, 02912\, United States
CATEGORIES:Conference
END:VEVENT
BEGIN:VEVENT
DTSTART;TZID=America/New_York:20200417T150000
DTEND;TZID=America/New_York:20200417T160000
DTSTAMP:20260422T180147
CREATED:20190923T175314Z
LAST-MODIFIED:20200331T171119Z
UID:2711-1587135600-1587139200@cpvb.org
SUMMARY:Olin Liang\, PhD – Targeting Hematopoietic Transcription factor RUNX1 as A Novel Treatment Modality for Pulmonary Arterial Hypertension
DESCRIPTION:Targeting Hematopoietic Transcription factor RUNX1 as A Novel Treatment Modality for Pulmonary Arterial Hypertension\nOlin Liang\, PhD \nZoom Meeting\nhttps://brown.zoom.us/j/625810677\nMeeting ID: 625 810 677 \nOne tap mobile\n+16465588656\,\,625810677# US (New York)\n+13126266799\,\,625810677# US (Chicago)\nDial by your location\n        +1 646 558 8656 US (New York)\n        +1 312 626 6799 US (Chicago)\n        +1 669 900 6833 US (San Jose)\n        +1 253 215 8782 US\n        +1 301 715 8592 US\n        +1 346 248 7799 US (Houston)\n        877 853 5247 US Toll-free\n        877 369 0926 US Toll-free\nMeeting ID: 625 810 677 \nFind your local number: https://brown.zoom.us/u/adhqqOvE8V \nJoin by SIP\n625810677@zoomcrc.com\nJoin by H.323\n162.255.37.11 (US West)\n162.255.36.11 (US East)\n221.122.88.195 (China)\n115.114.131.7 (India Mumbai)\n115.114.115.7 (India Hyderabad)\n213.19.144.110 (EMEA)\n103.122.166.55 (Australia)\n209.9.211.110 (Hong Kong)\n64.211.144.160 (Brazil)\n69.174.57.160 (Canada)\n207.226.132.110 (Japan)\nMeeting ID: 625 810 677
URL:https://cpvb.org/event/olin-liang-phd-targeting-hematopoietic-transcription-factor-runx1-as-a-novel-treatment-modality-for-pulmonary-arterial-hypertension/
LOCATION:VA Hospital – Providence\, 830 Chalkstone Avenue\, Providence\, RI\, 02908\, United States
CATEGORIES:Cardiac & Vascular Biology Research Seminar - Weekly Seminar Series
END:VEVENT
BEGIN:VEVENT
DTSTART;TZID=America/New_York:20200406T163000
DTEND;TZID=America/New_York:20200406T180000
DTSTAMP:20260422T180147
CREATED:20190916T223347Z
LAST-MODIFIED:20200416T190849Z
UID:2695-1586190600-1586196000@cpvb.org
SUMMARY:Charles A. Powell\, MD\, MBA – POSTPONED
DESCRIPTION:TO BE RESCHEDULED \nCharles A. Powell\, MD\, MBA\nJanice and Coleman Rabin Professor of Medicine\nSystem Chief\, Division of Pulmonary\, Critical Care\, and Sleep Medicine\nCEO\, Mount Sinai-National Jewish Health Respiratory Institute\nIcahn School of Medicine at Mount Sinai\nProfessor of Medicine\, National Jewish Health \nBIRDS conference
URL:https://cpvb.org/event/charles-a-powell-md-mba/
LOCATION:Brown University Medical School\, 222 Richmond Street\, Providence\, RI\, 02903\, United States
CATEGORIES:Conference
END:VEVENT
BEGIN:VEVENT
DTSTART;TZID=America/New_York:20200403T150000
DTEND;TZID=America/New_York:20200403T160000
DTSTAMP:20260422T180147
CREATED:20190923T153107Z
LAST-MODIFIED:20200324T204323Z
UID:2705-1585926000-1585929600@cpvb.org
SUMMARY:Jun Feng\, PhD – Metabolic Regulation of SK Channels and Coronary Endothelial Protection
DESCRIPTION:Metabolic Regulation of SK Channels and Coronary Endothelial Protection\nJun Feng\, PhD \nZoom Meeting\nhttps://brown.zoom.us/j/625810677\nMeeting ID: 625 810 677 \nOne tap mobile\n+16465588656\,\,625810677# US (New York)\n+13126266799\,\,625810677# US (Chicago)\nDial by your location\n        +1 646 558 8656 US (New York)\n        +1 312 626 6799 US (Chicago)\n        +1 669 900 6833 US (San Jose)\n        +1 253 215 8782 US\n        +1 301 715 8592 US\n        +1 346 248 7799 US (Houston)\n        877 853 5247 US Toll-free\n        877 369 0926 US Toll-free\nMeeting ID: 625 810 677 \nFind your local number: https://brown.zoom.us/u/adhqqOvE8V \nJoin by SIP\n625810677@zoomcrc.com\nJoin by H.323\n162.255.37.11 (US West)\n162.255.36.11 (US East)\n221.122.88.195 (China)\n115.114.131.7 (India Mumbai)\n115.114.115.7 (India Hyderabad)\n213.19.144.110 (EMEA)\n103.122.166.55 (Australia)\n209.9.211.110 (Hong Kong)\n64.211.144.160 (Brazil)\n69.174.57.160 (Canada)\n207.226.132.110 (Japan)\nMeeting ID: 625 810 677
URL:https://cpvb.org/event/jun-feng-phd/
LOCATION:RI\, United States
CATEGORIES:Cardiac & Vascular Biology Research Seminar - Weekly Seminar Series
END:VEVENT
BEGIN:VEVENT
DTSTART;TZID=America/New_York:20200320T150000
DTEND;TZID=America/New_York:20200320T160000
DTSTAMP:20260422T180147
CREATED:20190708T152057Z
LAST-MODIFIED:20200317T154225Z
UID:2603-1584716400-1584720000@cpvb.org
SUMMARY:Carly Goldstein\, PhD – Development of a Technology-Based Weight Loss Program for Cardiac Rehabilitation Patients
DESCRIPTION:Development of a Technology-Based Weight Loss Program for Cardiac Rehabilitation Patients\nCarly Goldstein\, PhD \nThis Meeting is Being Held Online\nJoin Zoom Meeting\nhttps://brown.zoom.us/j/198931093 \nMeeting ID: 198 931 093 \nOne tap mobile\n+16465588656\,\,198931093# US (New York)\n+13126266799\,\,198931093# US (Chicago)
URL:https://cpvb.org/event/carly-goldstein-phd/
LOCATION:Online Meeting\, RI\, United States
CATEGORIES:Cardiac & Vascular Biology Research Seminar - Weekly Seminar Series
END:VEVENT
BEGIN:VEVENT
DTSTART;TZID=America/New_York:20200306T150000
DTEND;TZID=America/New_York:20200306T160000
DTSTAMP:20260422T180147
CREATED:20190923T152954Z
LAST-MODIFIED:20200302T151111Z
UID:2699-1583506800-1583510400@cpvb.org
SUMMARY:Corey Ventetuolo\, MD – Sexual Dimorphism in PAH
DESCRIPTION:Sexual Dimorphism in PAH\nCorey Ventetuolo\, MD
URL:https://cpvb.org/event/corey-ventetuolo-md/
LOCATION:VA Hospital – Providence\, 830 Chalkstone Avenue\, Providence\, RI\, 02908\, United States
CATEGORIES:Cardiac & Vascular Biology Research Seminar - Weekly Seminar Series
END:VEVENT
BEGIN:VEVENT
DTSTART;TZID=America/New_York:20200303T080000
DTEND;TZID=America/New_York:20200303T090000
DTSTAMP:20260422T180147
CREATED:20190916T134725Z
LAST-MODIFIED:20200302T151041Z
UID:2691-1583222400-1583226000@cpvb.org
SUMMARY:Jennifer L. Taylor-Cousar – Cystic Fibrosis Therapeutics:  Great Strides and Future Directions
DESCRIPTION:Cystic Fibrosis Therapeutics:  Great Strides and Future Directions\nJennifer L. Taylor-Cousar\, MD\, MSCS\, ATSF\nMedical Director\, Clinical Research Services\nCo-Director and CF TDC Director\, Adult CF Program \nBIRDS Conference
URL:https://cpvb.org/event/jennifer-l-taylor-cousar-2/
LOCATION:Rhode Island Hospital\, 593 Eddy Street\, Providence\, RI\, 02903\, United States
CATEGORIES:Conference
END:VEVENT
BEGIN:VEVENT
DTSTART;TZID=America/New_York:20200302T163000
DTEND;TZID=America/New_York:20200302T180000
DTSTAMP:20260422T180147
CREATED:20190916T134557Z
LAST-MODIFIED:20200302T151000Z
UID:2688-1583166600-1583172000@cpvb.org
SUMMARY:Jennifer L. Taylor-Cousar – Cystic Fibrosis Therapeutics: Great Strides and Future Directions
DESCRIPTION:Cystic Fibrosis Therapeutics: Great Strides and Future Directions\nJennifer L. Taylor-Cousar\, MD\, MSCS\, ATSF\nMedical Director\, Clinical Research Services\nCo-Director and CF TDC Director\, Adult CF Program \nBIRDS Conference
URL:https://cpvb.org/event/jennifer-l-taylor-cousar/
LOCATION:Brown University Medical School\, 222 Richmond Street\, Providence\, RI\, 02903\, United States
CATEGORIES:Conference
END:VEVENT
BEGIN:VEVENT
DTSTART;TZID=America/New_York:20200221T150000
DTEND;TZID=America/New_York:20200221T160000
DTSTAMP:20260422T180147
CREATED:20190923T153140Z
LAST-MODIFIED:20200221T144755Z
UID:2708-1582297200-1582300800@cpvb.org
SUMMARY:Alan Morrison\, MD – Rac1-IL-1B Signaling Axis in Atherosclerotic Calcification
DESCRIPTION:Rac1-IL-1B Signaling Axis in Atherosclerotic Calcification\nAlan Morrison\, MD
URL:https://cpvb.org/event/alan-morrison-md/
LOCATION:VA Hospital – Providence\, 830 Chalkstone Avenue\, Providence\, RI\, 02908\, United States
CATEGORIES:Cardiac & Vascular Biology Research Seminar - Weekly Seminar Series
END:VEVENT
BEGIN:VEVENT
DTSTART;TZID=America/New_York:20200207T150000
DTEND;TZID=America/New_York:20200207T160000
DTSTAMP:20260422T180147
CREATED:20190927T172148Z
LAST-MODIFIED:20190927T172148Z
UID:2720-1581087600-1581091200@cpvb.org
SUMMARY:Hemal H. Patel\, PhD – A Decade(+) of Caveolin Research: Update of the Expected and Unexpected Findings Driving Cell\, Organ\, and Animal Biology
DESCRIPTION:A Decade(+) of Caveolin Research: Update of the Expected and Unexpected Findings Driving Cell\, Organ\, and Animal Biology\nHemal H. Patel\, PhD\nProfessor & Vice-Chair for Research\nDirector\, UCSD Cardiac/Neuro Protection Laboratories\nResearch Pharmacologist\, VA San Diego Healthcare System
URL:https://cpvb.org/event/hemal-h-patel-phd-a-decade-of-caveolin-research-update-of-the-expected-and-unexpected-findings-driving-cell-organ-and-animal-biology/
LOCATION:VA Hospital – Providence\, 830 Chalkstone Avenue\, Providence\, RI\, 02908\, United States
CATEGORIES:Cardiac & Vascular Biology Research Seminar - Weekly Seminar Series
END:VEVENT
BEGIN:VEVENT
DTSTART;TZID=America/New_York:20200203T163000
DTEND;TZID=America/New_York:20200203T180000
DTSTAMP:20260422T180147
CREATED:20190909T143913Z
LAST-MODIFIED:20200122T150228Z
UID:2664-1580747400-1580752800@cpvb.org
SUMMARY:E. Wesley Ely\, M.D. – A New Frontier in Critical Care: Saving the Injured Brain
DESCRIPTION:A New Frontier in Critical Care: Saving the Injured Brain\nE. Wesley Ely\, M.D.\nProfessor of Medicine\, Vanderbilt University School of Medicine\nCo-Director of the Center for Critical Illness\, Brain dysfunction\, and Survivorship (CIBS Center)
URL:https://cpvb.org/event/e-wesley-ely-m-d/
LOCATION:Brown University Medical School\, 222 Richmond Street\, Providence\, RI\, 02903\, United States
CATEGORIES:Conference
END:VEVENT
BEGIN:VEVENT
DTSTART;TZID=America/New_York:20200124T150000
DTEND;TZID=America/New_York:20200124T160000
DTSTAMP:20260422T180147
CREATED:20191001T143432Z
LAST-MODIFIED:20200107T184756Z
UID:2724-1579878000-1579881600@cpvb.org
SUMMARY:Craig Lefort\, PhD – Modulating the neutrophil response to acute respiratory infection
DESCRIPTION:Craig Lefort\, PhD\nModulating the neutrophil response to acute respiratory infection
URL:https://cpvb.org/event/craig-lefort-phd/
LOCATION:VA Hospital – Providence\, 830 Chalkstone Avenue\, Providence\, RI\, 02908\, United States
CATEGORIES:Cardiac & Vascular Biology Research Seminar - Weekly Seminar Series
END:VEVENT
BEGIN:VEVENT
DTSTART;TZID=America/New_York:20200110T150000
DTEND;TZID=America/New_York:20200110T160000
DTSTAMP:20260422T180147
CREATED:20190422T143428Z
LAST-MODIFIED:20191119T144726Z
UID:2553-1578668400-1578672000@cpvb.org
SUMMARY:Sean Monaghan\, MD
DESCRIPTION:Sean Monaghan\, MD
URL:https://cpvb.org/event/sean-monaghan-md/
LOCATION:VA Hospital – Providence\, 830 Chalkstone Avenue\, Providence\, RI\, 02908\, United States
CATEGORIES:Cardiac & Vascular Biology Research Seminar - Weekly Seminar Series
END:VEVENT
BEGIN:VEVENT
DTSTART;TZID=America/New_York:20191213T150000
DTEND;TZID=America/New_York:20191213T160000
DTSTAMP:20260422T180148
CREATED:20190422T143531Z
LAST-MODIFIED:20191119T224741Z
UID:2556-1576249200-1576252800@cpvb.org
SUMMARY:Alejandro R. Chade\, MD\, FAHA – Applied biotechnology and therapeutic targets in cardiovascular and renal disease: work in progress and future directions
DESCRIPTION:Applied biotechnology and therapeutic targets in cardiovascular and renal disease: work in progress and future directions \nAlejandro R. Chade\, MD\, FAHA\n\nProfessor\nDepartment of Physiology and Biophysics\nDepartment of Medicine\nDepartment of Radiology\nUniversity of Mississippi Medical Center \nA building 35\, room 142-143
URL:https://cpvb.org/event/alejandro-r-chade-md-faha/
LOCATION:VA Hospital – Providence\, 830 Chalkstone Avenue\, Providence\, RI\, 02908\, United States
CATEGORIES:Cardiac & Vascular Biology Research Seminar - Weekly Seminar Series
END:VEVENT
BEGIN:VEVENT
DTSTART;TZID=America/New_York:20191202T163000
DTEND;TZID=America/New_York:20191202T180000
DTSTAMP:20260422T180148
CREATED:20190909T143819Z
LAST-MODIFIED:20191119T224750Z
UID:2661-1575304200-1575309600@cpvb.org
SUMMARY:Ping Wang\, MD – eCIRP – Novel Therapeutic Target for Inflammation
DESCRIPTION:eCIRP – Novel Therapeutic Target for Inflammation \nPing Wang\, MD\nChief Scientific Officer\, Feinstein Institutes for Medical Research\nProfessor & Head\, The Center for Immunology & Inflammation\, Feinstein Institutes for Medical Research\nProfessor of Surgery and Molecular Medicine\, Donald and Barbara Zucker School of Medicine at Hofstra/Northwell
URL:https://cpvb.org/event/ping-wang-md/
LOCATION:Brown University Medical School\, 222 Richmond Street\, Providence\, RI\, 02903\, United States
CATEGORIES:Conference
END:VEVENT
BEGIN:VEVENT
DTSTART;TZID=America/New_York:20191104T163000
DTEND;TZID=America/New_York:20191104T180000
DTSTAMP:20260422T180148
CREATED:20181019T202244Z
LAST-MODIFIED:20181019T202244Z
UID:2317-1572885000-1572890400@cpvb.org
SUMMARY:Carolyn Calfee\, MD
DESCRIPTION:Carolyn Calfee\, MD\nAssociate Professor\, University of California San Francisco
URL:https://cpvb.org/event/carolyn-calfee-md/
LOCATION:Brown University Medical School\, 222 Richmond Street\, Providence\, RI\, 02903\, United States
CATEGORIES:Conference
END:VEVENT
BEGIN:VEVENT
DTSTART;TZID=America/New_York:20191101T150000
DTEND;TZID=America/New_York:20191101T160000
DTSTAMP:20260422T180148
CREATED:20190520T175453Z
LAST-MODIFIED:20191022T145348Z
UID:2581-1572620400-1572624000@cpvb.org
SUMMARY:Jessica Plavicki\, PhD – Sox9b Function in Cardiomyocyte and Great Vessel Development
DESCRIPTION:Sox9b Function in Cardiomyocyte and Great Vessel Development\nJessica Plavicki\, PhD
URL:https://cpvb.org/event/jessica-plavicki-phd/
LOCATION:VA Hospital – Providence\, 830 Chalkstone Avenue\, Providence\, RI\, 02908\, United States
CATEGORIES:Cardiac & Vascular Biology Research Seminar - Weekly Seminar Series
END:VEVENT
BEGIN:VEVENT
DTSTART;TZID=America/New_York:20191018T150000
DTEND;TZID=America/New_York:20191018T160000
DTSTAMP:20260422T180148
CREATED:20190422T143338Z
LAST-MODIFIED:20191008T155021Z
UID:2550-1571410800-1571414400@cpvb.org
SUMMARY:Hongwei Yao\, PhD – Pentose phosphate pathway controls endothelial cell proliferation during hyperoxic lung injury
DESCRIPTION:Pentose phosphate pathway controls endothelial cell proliferation during hyperoxic lung injury\nHongwei Yao\, PhD\nVA building 35\, room 142-143
URL:https://cpvb.org/event/hongwei-yao-phd/
LOCATION:VA Hospital – Providence\, 830 Chalkstone Avenue\, Providence\, RI\, 02908\, United States
CATEGORIES:Cardiac & Vascular Biology Research Seminar - Weekly Seminar Series
END:VEVENT
BEGIN:VEVENT
DTSTART;TZID=America/New_York:20191007T163000
DTEND;TZID=America/New_York:20191007T180000
DTSTAMP:20260422T180148
CREATED:20190118T153329Z
LAST-MODIFIED:20190118T153329Z
UID:2377-1570465800-1570471200@cpvb.org
SUMMARY:Darrell N. Kotton\, MD – Pluripotent stem cell models of lung development and disease
DESCRIPTION:Pluripotent stem cell models of lung development and disease\nDarrell N. Kotton\, MD\nDirector\, Center for Regenerative Medicine (CReM)\nBoston University and Boston Medical Center
URL:https://cpvb.org/event/darrell-n-kotton-md-pluripotent-stem-cell-models-of-lung-development-and-disease/
LOCATION:Boston University Medical Campus\, 715 Albany St #437\, Boston\, MA\, 02118\, United States
CATEGORIES:Conference
END:VEVENT
BEGIN:VEVENT
DTSTART;TZID=America/New_York:20191004T150000
DTEND;TZID=America/New_York:20191004T160000
DTSTAMP:20260422T180148
CREATED:20190307T151302Z
LAST-MODIFIED:20190823T132808Z
UID:2434-1570201200-1570204800@cpvb.org
SUMMARY:Metabolic Reprogramming in Patients With Lung Diseases – Xiangming Ji\, PhD
DESCRIPTION:Metabolic Reprogramming in Patients With Lung Diseases\nXiangming Ji\, PhD\nAssistant Professor\nByrdine F. Lewis College of Nursing and Health Professions\nGeorgia State University
URL:https://cpvb.org/event/xiangming-ji-phd-2/
LOCATION:VA Hospital – Providence\, 830 Chalkstone Avenue\, Providence\, RI\, 02908\, United States
CATEGORIES:Cardiac & Vascular Biology Research Seminar - Weekly Seminar Series
END:VEVENT
BEGIN:VEVENT
DTSTART;TZID=America/New_York:20190920T150000
DTEND;TZID=America/New_York:20190920T160000
DTSTAMP:20260422T180148
CREATED:20181019T202002Z
LAST-MODIFIED:20190909T143950Z
UID:2308-1568991600-1568995200@cpvb.org
SUMMARY:Christopher M. Evans\, PhD – Mechanisms of Airway Mucin Functions in Health and Disease
DESCRIPTION:Mechanisms of Airway Mucin Functions in Health and Disease\nChristopher M. Evans\, PhD\nProfessor\, Division of Pulmonary Sciences and Critical Care Medicine\nUniversity of Colorado Denver School of Medicine
URL:https://cpvb.org/event/christopher-m-evans-phd/
LOCATION:VA Hospital – Providence\, 830 Chalkstone Avenue\, Providence\, RI\, 02908\, United States
CATEGORIES:Cardiac & Vascular Biology Research Seminar - Weekly Seminar Series
END:VEVENT
BEGIN:VEVENT
DTSTART;TZID=America/New_York:20190906T150000
DTEND;TZID=America/New_York:20190906T160000
DTSTAMP:20260422T180148
CREATED:20190422T143248Z
LAST-MODIFIED:20190903T144731Z
UID:2547-1567782000-1567785600@cpvb.org
SUMMARY:Yang Zhou\, PhD – CHI3L1 and its Receptors in Vascular Remodeling and Pulmonary Hypertension Associated with Pulmonary Fibrosis
DESCRIPTION:CHI3L1 and its Receptors in Vascular Remodeling and Pulmonary Hypertension Associated with Pulmonary Fibrosis\nYang Zhou\, PhD\nVA building 35\, room 142-143
URL:https://cpvb.org/event/yang-zhou-phd/
LOCATION:VA Hospital – Providence\, 830 Chalkstone Avenue\, Providence\, RI\, 02908\, United States
CATEGORIES:Cardiac & Vascular Biology Research Seminar - Weekly Seminar Series
END:VEVENT
BEGIN:VEVENT
DTSTART;TZID=America/New_York:20190712T150000
DTEND;TZID=America/New_York:20190712T160000
DTSTAMP:20260422T180148
CREATED:20190603T172538Z
LAST-MODIFIED:20190603T172538Z
UID:2593-1562943600-1562947200@cpvb.org
SUMMARY:Susan M. Majka\, Ph.D. - Identification of Novel Mesenchymal Pathways that Regulate the Microvascular Niche & Contribute to the Development of Chronic Lung Diseases
DESCRIPTION:Identification of Novel Mesenchymal Pathways that Regulate the Microvascular Niche & Contribute to the Development of Chronic Lung Diseases \nSusan M. Majka\, Ph.D.\nProfessor of Medicine\nDivision of Pulmonary and Critical Care\nNational Jewish Health\nDenver\, Colorado
URL:https://cpvb.org/event/susan-m-majka-ph-d-identification-of-novel-mesenchymal-pathways-that-regulate-the-microvascular-niche-contribute-to-the-development-of-chronic-lung-diseases/
LOCATION:VA Hospital – Providence\, 830 Chalkstone Avenue\, Providence\, RI\, 02908\, United States
CATEGORIES:Cardiac & Vascular Biology Research Seminar - Weekly Seminar Series
END:VEVENT
BEGIN:VEVENT
DTSTART;TZID=America/New_York:20190617T163000
DTEND;TZID=America/New_York:20190617T180000
DTSTAMP:20260422T180148
CREATED:20190307T151208Z
LAST-MODIFIED:20190311T190514Z
UID:2431-1560789000-1560794400@cpvb.org
SUMMARY:Charles S. Dela Cruz\, MD\, PhD
DESCRIPTION:Charles S. Dela Cruz\, MD\, PhD\nAssociate Professor\nSection of Pulmonary\, Critical Care and Sleep Medicine\nDepartment of Internal Medicine\nDepartment of Microbial Pathogenesis\nDirector\, Center of Pulmonary Infection Research and Treatment (CPIRT)\nYale University
URL:https://cpvb.org/event/charles-s-dela-cruz-md-phd/
LOCATION:Brown University Medical School\, 222 Richmond Street\, Providence\, RI\, 02903\, United States
CATEGORIES:Conference
END:VEVENT
END:VCALENDAR