BEGIN:VCALENDAR
VERSION:2.0
PRODID:-//Ocean State Research Institute - ECPv6.15.17.1//NONSGML v1.0//EN
CALSCALE:GREGORIAN
METHOD:PUBLISH
X-ORIGINAL-URL:https://cpvb.org
X-WR-CALDESC:Events for Ocean State Research Institute
REFRESH-INTERVAL;VALUE=DURATION:PT1H
X-Robots-Tag:noindex
X-PUBLISHED-TTL:PT1H
BEGIN:VTIMEZONE
TZID:America/New_York
BEGIN:DAYLIGHT
TZOFFSETFROM:-0500
TZOFFSETTO:-0400
TZNAME:EDT
DTSTART:20240310T070000
END:DAYLIGHT
BEGIN:STANDARD
TZOFFSETFROM:-0400
TZOFFSETTO:-0500
TZNAME:EST
DTSTART:20241103T060000
END:STANDARD
BEGIN:DAYLIGHT
TZOFFSETFROM:-0500
TZOFFSETTO:-0400
TZNAME:EDT
DTSTART:20250309T070000
END:DAYLIGHT
BEGIN:STANDARD
TZOFFSETFROM:-0400
TZOFFSETTO:-0500
TZNAME:EST
DTSTART:20251102T060000
END:STANDARD
BEGIN:DAYLIGHT
TZOFFSETFROM:-0500
TZOFFSETTO:-0400
TZNAME:EDT
DTSTART:20260308T070000
END:DAYLIGHT
BEGIN:STANDARD
TZOFFSETFROM:-0400
TZOFFSETTO:-0500
TZNAME:EST
DTSTART:20261101T060000
END:STANDARD
END:VTIMEZONE
BEGIN:VEVENT
DTSTART;TZID=America/New_York:20250404T150000
DTEND;TZID=America/New_York:20250404T160000
DTSTAMP:20260422T025903
CREATED:20250107T190705Z
LAST-MODIFIED:20250408T131325Z
UID:4554-1743778800-1743782400@cpvb.org
SUMMARY:Wenliang Song\, MD - Harnessing Bioactive Lipids on Lipoproteins to Reduce Residual Cardiometabolic Risk
DESCRIPTION:Harnessing Bioactive Lipids on Lipoproteins to Reduce Residual Cardiometabolic Risk\nPresenter: Wenliang Song\, MD\nLocation: Providence VA Medical Center (830 Chalkstone Ave\, Providence\, RI 02908)\nBuilding #35 Conference Room 142/143 \nIn person attendance is encouraged. If unable\, please join us virtually\nJoin Zoom Meeting\nhttps://brown.zoom.us/j/94324061641?pwd=6lEnXlMmzKtJwFKACm5aQP6dlUyfbC.1 Meeting ID: 943 2406 1641
URL:https://cpvb.org/event/wenliang-song-md/
LOCATION:VA Hospital – Providence\, 830 Chalkstone Avenue\, Providence\, RI\, 02908\, United States
CATEGORIES:Conference
END:VEVENT
BEGIN:VEVENT
DTSTART;TZID=America/New_York:20250411T150000
DTEND;TZID=America/New_York:20250411T160000
DTSTAMP:20260422T025903
CREATED:20240919T151140Z
LAST-MODIFIED:20250408T131500Z
UID:4441-1744383600-1744387200@cpvb.org
SUMMARY:Alan Morrison\, MD\, PhD – Reversing the Impact of Aging on Arteriogenesis
DESCRIPTION:Reversing the Impact of Aging on Arteriogenesis\nPresenter: Alan Morrison\, MD\, PhD\nLocation: Providence VA Medical Center (830 Chalkstone Ave\, Providence\, RI 02908)\nBuilding #35 Conference Room 142/143 \nIn person attendance is encouraged. If unable\, please join us virtually\nJoin Zoom Meeting\nhttps://brown.zoom.us/j/94324061641?pwd=6lEnXlMmzKtJwFKACm5aQP6dlUyfbC.1 Meeting ID: 943 2406 1641
URL:https://cpvb.org/event/alan-morrison-md-phd-reversing-the-impact-of-aging-on-arteriogenesis/
LOCATION:VA Hospital – Providence\, 830 Chalkstone Avenue\, Providence\, RI\, 02908\, United States
CATEGORIES:Conference
END:VEVENT
BEGIN:VEVENT
DTSTART;TZID=America/New_York:20250418T150000
DTEND;TZID=America/New_York:20250418T160000
DTSTAMP:20260422T025903
CREATED:20240919T151209Z
LAST-MODIFIED:20250410T155819Z
UID:4444-1744988400-1744992000@cpvb.org
SUMMARY:Ana Mora\, MD – Mitochondrial dysfunction at the spotlight of Lung Aging and Disease
DESCRIPTION:Mitochondrial dysfunction at the spotlight of Lung Aging and Disease\nPresenter: Ana Mora\, MD\nLocation: Providence VA Medical Center (830 Chalkstone Ave\, Providence\, RI 02908)\nBuilding #35 Conference Room 142/143 \nIn person attendance is encouraged. If unable\, please join us virtually\nJoin Zoom Meeting\nhttps://brown.zoom.us/j/94324061641?pwd=6lEnXlMmzKtJwFKACm5aQP6dlUyfbC.1 Meeting ID: 943 2406 1641
URL:https://cpvb.org/event/ana-mora-md/
LOCATION:VA Hospital – Providence\, 830 Chalkstone Avenue\, Providence\, RI\, 02908\, United States
CATEGORIES:Conference
END:VEVENT
BEGIN:VEVENT
DTSTART;TZID=America/New_York:20250425T150000
DTEND;TZID=America/New_York:20250425T160000
DTSTAMP:20260422T025903
CREATED:20240919T151309Z
LAST-MODIFIED:20250424T151231Z
UID:4450-1745593200-1745596800@cpvb.org
SUMMARY:Ting Zhao\, MD\, PhD – Function of HDACs and Irisin in Cardiac Protection and Insulin Resistance
DESCRIPTION:Function of HDACs and Irisin in Cardiac Protection and Insulin Resistance\nPresenter: Ting Zhao\, MD\, PhD\nLocation: Providence VA Medical Center (830 Chalkstone Ave\, Providence\, RI 02908)\nBuilding #35 Conference Room 142/143 \nIn person attendance is encouraged. If unable\, please join us virtually\nJoin Zoom Meeting\nhttps://brown.zoom.us/j/94324061641?pwd=6lEnXlMmzKtJwFKACm5aQP6dlUyfbC.1 Meeting ID: 943 2406 1641
URL:https://cpvb.org/event/ting-zhao-md-phd/
LOCATION:VA Hospital – Providence\, 830 Chalkstone Avenue\, Providence\, RI\, 02908\, United States
CATEGORIES:Conference
END:VEVENT
END:VCALENDAR