BEGIN:VCALENDAR
VERSION:2.0
PRODID:-//Ocean State Research Institute - ECPv6.15.17.1//NONSGML v1.0//EN
CALSCALE:GREGORIAN
METHOD:PUBLISH
X-WR-CALNAME:Ocean State Research Institute
X-ORIGINAL-URL:https://cpvb.org
X-WR-CALDESC:Events for Ocean State Research Institute
REFRESH-INTERVAL;VALUE=DURATION:PT1H
X-Robots-Tag:noindex
X-PUBLISHED-TTL:PT1H
BEGIN:VTIMEZONE
TZID:America/New_York
BEGIN:DAYLIGHT
TZOFFSETFROM:-0500
TZOFFSETTO:-0400
TZNAME:EDT
DTSTART:20240310T070000
END:DAYLIGHT
BEGIN:STANDARD
TZOFFSETFROM:-0400
TZOFFSETTO:-0500
TZNAME:EST
DTSTART:20241103T060000
END:STANDARD
BEGIN:DAYLIGHT
TZOFFSETFROM:-0500
TZOFFSETTO:-0400
TZNAME:EDT
DTSTART:20250309T070000
END:DAYLIGHT
BEGIN:STANDARD
TZOFFSETFROM:-0400
TZOFFSETTO:-0500
TZNAME:EST
DTSTART:20251102T060000
END:STANDARD
BEGIN:DAYLIGHT
TZOFFSETFROM:-0500
TZOFFSETTO:-0400
TZNAME:EDT
DTSTART:20260308T070000
END:DAYLIGHT
BEGIN:STANDARD
TZOFFSETFROM:-0400
TZOFFSETTO:-0500
TZNAME:EST
DTSTART:20261101T060000
END:STANDARD
END:VTIMEZONE
BEGIN:VEVENT
DTSTART;TZID=America/New_York:20250919T150000
DTEND;TZID=America/New_York:20250919T160000
DTSTAMP:20260421T185352
CREATED:20250903T131936Z
LAST-MODIFIED:20250918T190706Z
UID:4649-1758294000-1758297600@cpvb.org
SUMMARY:Abdulkadir Kiris\, MD – Cardiac arrhythmias in Pulmonary Hypertension
DESCRIPTION:﻿Cardiac arrhythmias in Pulmonary Hypertension\nPresenter: Abdulkadir Kiris\, MD\nLocation: Providence VA Medical Center (830 Chalkstone Ave\, Providence\, RI 02908)\nBuilding #35 Conference Room 142/143 \nIn person attendance is encouraged. If unable\, please join us virtually\nJoin Zoom Meeting\nhttps://brown.zoom.us/j/93995034210\nMeeting ID: 939 9503 4210
URL:https://cpvb.org/event/abdulkadir-kiris-md/
LOCATION:VA Hospital – Providence\, 830 Chalkstone Avenue\, Providence\, RI\, 02908\, United States
CATEGORIES:Cardiac & Vascular Biology Research Seminar - Weekly Seminar Series,Conference
END:VEVENT
BEGIN:VEVENT
DTSTART;TZID=America/New_York:20250925T120000
DTEND;TZID=America/New_York:20250925T130000
DTSTAMP:20260421T185352
CREATED:20250916T203529Z
LAST-MODIFIED:20250918T190336Z
UID:4754-1758801600-1758805200@cpvb.org
SUMMARY:Karthik Dhanabalan - Role of Microbiome-Derived Butyrate in Attenuating Pulmonary Hypertension-Associated Endothelial Phenotype
DESCRIPTION:Role of Microbiome-Derived Butyrate in Attenuating Pulmonary Hypertension-Associated Endothelial Phenotype\nPresenter: Karthik Dhanabalan\nIn person only \nThe Postdoc Journal Club is a monthly meeting where postdoctoral researchers select and present a journal article relevant to their research. Each session\, one participant chooses a recent or impactful paper\, summarizes key findings\, and leads a discussion with the group. The goal is to foster critical analysis\, stay updated on advancements\, and encourage interdisciplinary collaboration. The group collectively reviews the article\, offering insights\, discussing methodologies\, and evaluating its significance. This interactive format enhances scientific communication skills and keeps researchers engaged with the latest developments in their field.
URL:https://cpvb.org/event/karthik-dhanabalan/
LOCATION:VA Hospital – Providence\, 830 Chalkstone Avenue\, Providence\, RI\, 02908\, United States
CATEGORIES:Postdoctoral Journal Club
END:VEVENT
BEGIN:VEVENT
DTSTART;TZID=America/New_York:20250926T150000
DTEND;TZID=America/New_York:20250926T160000
DTSTAMP:20260421T185352
CREATED:20250903T131907Z
LAST-MODIFIED:20250922T211845Z
UID:4646-1758898800-1758902400@cpvb.org
SUMMARY:Andres Pulgarin Rocha\, PhD – Role of Microbiome-Derived Butyrate in Attenuating Pulmonary Hypertension-Associated Endothelial Phenotypes
DESCRIPTION:Role of Microbiome-Derived Butyrate in Attenuating Pulmonary Hypertension-Associated Endothelial\nPhenotypes\nPresenter: Andres Pulgarin Rocha\, PhD\nLocation: Providence VA Medical Center (830 Chalkstone Ave\, Providence\, RI 02908)\nBuilding #35 Conference Room 142/143 \nIn person attendance is encouraged. If unable\, please join us virtually\nJoin Zoom Meeting\nhttps://brown.zoom.us/j/93995034210\nMeeting ID: 939 9503 4210
URL:https://cpvb.org/event/andres-pulgarin-rocha-phd/
LOCATION:VA Hospital – Providence\, 830 Chalkstone Avenue\, Providence\, RI\, 02908\, United States
CATEGORIES:Cardiac & Vascular Biology Research Seminar - Weekly Seminar Series,Conference
END:VEVENT
END:VCALENDAR