BEGIN:VCALENDAR
VERSION:2.0
PRODID:-//Ocean State Research Institute - ECPv6.15.17.1//NONSGML v1.0//EN
CALSCALE:GREGORIAN
METHOD:PUBLISH
X-WR-CALNAME:Ocean State Research Institute
X-ORIGINAL-URL:https://cpvb.org
X-WR-CALDESC:Events for Ocean State Research Institute
REFRESH-INTERVAL;VALUE=DURATION:PT1H
X-Robots-Tag:noindex
X-PUBLISHED-TTL:PT1H
BEGIN:VTIMEZONE
TZID:America/New_York
BEGIN:DAYLIGHT
TZOFFSETFROM:-0500
TZOFFSETTO:-0400
TZNAME:EDT
DTSTART:20240310T070000
END:DAYLIGHT
BEGIN:STANDARD
TZOFFSETFROM:-0400
TZOFFSETTO:-0500
TZNAME:EST
DTSTART:20241103T060000
END:STANDARD
BEGIN:DAYLIGHT
TZOFFSETFROM:-0500
TZOFFSETTO:-0400
TZNAME:EDT
DTSTART:20250309T070000
END:DAYLIGHT
BEGIN:STANDARD
TZOFFSETFROM:-0400
TZOFFSETTO:-0500
TZNAME:EST
DTSTART:20251102T060000
END:STANDARD
BEGIN:DAYLIGHT
TZOFFSETFROM:-0500
TZOFFSETTO:-0400
TZNAME:EDT
DTSTART:20260308T070000
END:DAYLIGHT
BEGIN:STANDARD
TZOFFSETFROM:-0400
TZOFFSETTO:-0500
TZNAME:EST
DTSTART:20261101T060000
END:STANDARD
END:VTIMEZONE
BEGIN:VEVENT
DTSTART;TZID=America/New_York:20251205T150000
DTEND;TZID=America/New_York:20251205T160000
DTSTAMP:20260421T134733
CREATED:20250903T132643Z
LAST-MODIFIED:20250903T132643Z
UID:4688-1764946800-1764950400@cpvb.org
SUMMARY:Zachary Harris\, MD
DESCRIPTION:Presenter: Zachary Harris\, MD\nLocation: Providence VA Medical Center (830 Chalkstone Ave\, Providence\, RI 02908)\nBuilding #35 Conference Room 142/143 \nIn person attendance is encouraged. If unable\, please join us virtually\nJoin Zoom Meeting\nhttps://brown.zoom.us/j/94324061641?pwd=6lEnXlMmzKtJwFKACm5aQP6dlUyfbC.1\nMeeting ID: 943 2406 1641
URL:https://cpvb.org/event/zachary-harris-md/
LOCATION:VA Hospital – Providence\, 830 Chalkstone Avenue\, Providence\, RI\, 02908\, United States
CATEGORIES:Conference
END:VEVENT
BEGIN:VEVENT
DTSTART;TZID=America/New_York:20251209T150000
DTEND;TZID=America/New_York:20251209T160000
DTSTAMP:20260421T134733
CREATED:20250916T202714Z
LAST-MODIFIED:20250916T202952Z
UID:4721-1765292400-1765296000@cpvb.org
SUMMARY:Clements Lab
DESCRIPTION:Presenter: Richard Clements\, PhD\nIn person only
URL:https://cpvb.org/event/clements-lab/
LOCATION:VA Hospital – Providence\, 830 Chalkstone Avenue\, Providence\, RI\, 02908\, United States
CATEGORIES:VRL Research in Progress
END:VEVENT
BEGIN:VEVENT
DTSTART;TZID=America/New_York:20251212T150000
DTEND;TZID=America/New_York:20251212T160000
DTSTAMP:20260421T134733
CREATED:20250903T132711Z
LAST-MODIFIED:20250903T132711Z
UID:4691-1765551600-1765555200@cpvb.org
SUMMARY:Lawler Lab
DESCRIPTION:Presenter: Lawler Lab\nLocation: Providence VA Medical Center (830 Chalkstone Ave\, Providence\, RI 02908)\nBuilding #35 Conference Room 142/143 \nIn person attendance is encouraged. If unable\, please join us virtually\nJoin Zoom Meeting\nhttps://brown.zoom.us/j/94324061641?pwd=6lEnXlMmzKtJwFKACm5aQP6dlUyfbC.1\nMeeting ID: 943 2406 1641
URL:https://cpvb.org/event/lawler-lab/
LOCATION:VA Hospital – Providence\, 830 Chalkstone Avenue\, Providence\, RI\, 02908\, United States
CATEGORIES:Conference
END:VEVENT
BEGIN:VEVENT
DTSTART;TZID=America/New_York:20251218T120000
DTEND;TZID=America/New_York:20251218T130000
DTSTAMP:20260421T134733
CREATED:20250916T203728Z
LAST-MODIFIED:20250916T203728Z
UID:4763-1766059200-1766062800@cpvb.org
SUMMARY:Andres Pulgarin Rocha
DESCRIPTION:Presenter: Andres Pulgarin Rocha\nIn person only \nThe Postdoc Journal Club is a monthly meeting where postdoctoral researchers select and present a journal article relevant to their research. Each session\, one participant chooses a recent or impactful paper\, summarizes key findings\, and leads a discussion with the group. The goal is to foster critical analysis\, stay updated on advancements\, and encourage interdisciplinary collaboration. The group collectively reviews the article\, offering insights\, discussing methodologies\, and evaluating its significance. This interactive format enhances scientific communication skills and keeps researchers engaged with the latest developments in their field.
URL:https://cpvb.org/event/andres-pulgarin-rocha/
LOCATION:VA Hospital – Providence\, 830 Chalkstone Avenue\, Providence\, RI\, 02908\, United States
CATEGORIES:Postdoctoral Journal Club
END:VEVENT
BEGIN:VEVENT
DTSTART;TZID=America/New_York:20251219T150000
DTEND;TZID=America/New_York:20251219T160000
DTSTAMP:20260421T134733
CREATED:20250903T132740Z
LAST-MODIFIED:20250903T132740Z
UID:4694-1766156400-1766160000@cpvb.org
SUMMARY:Hongwei Yao\, PhD
DESCRIPTION:Presenter: Hongwei Yao\, PhD\nLocation: Providence VA Medical Center (830 Chalkstone Ave\, Providence\, RI 02908)\nBuilding #35 Conference Room 142/143 \nIn person attendance is encouraged. If unable\, please join us virtually\nJoin Zoom Meeting\nhttps://brown.zoom.us/j/94324061641?pwd=6lEnXlMmzKtJwFKACm5aQP6dlUyfbC.1\nMeeting ID: 943 2406 1641
URL:https://cpvb.org/event/hongwei-yao-phd-5/
LOCATION:VA Hospital – Providence\, 830 Chalkstone Avenue\, Providence\, RI\, 02908\, United States
CATEGORIES:Conference
END:VEVENT
END:VCALENDAR