BEGIN:VCALENDAR
VERSION:2.0
PRODID:-//Ocean State Research Institute - ECPv6.15.17.1//NONSGML v1.0//EN
CALSCALE:GREGORIAN
METHOD:PUBLISH
X-WR-CALNAME:Ocean State Research Institute
X-ORIGINAL-URL:https://cpvb.org
X-WR-CALDESC:Events for Ocean State Research Institute
REFRESH-INTERVAL;VALUE=DURATION:PT1H
X-Robots-Tag:noindex
X-PUBLISHED-TTL:PT1H
BEGIN:VTIMEZONE
TZID:America/New_York
BEGIN:DAYLIGHT
TZOFFSETFROM:-0500
TZOFFSETTO:-0400
TZNAME:EDT
DTSTART:20250309T070000
END:DAYLIGHT
BEGIN:STANDARD
TZOFFSETFROM:-0400
TZOFFSETTO:-0500
TZNAME:EST
DTSTART:20251102T060000
END:STANDARD
BEGIN:DAYLIGHT
TZOFFSETFROM:-0500
TZOFFSETTO:-0400
TZNAME:EDT
DTSTART:20260308T070000
END:DAYLIGHT
BEGIN:STANDARD
TZOFFSETFROM:-0400
TZOFFSETTO:-0500
TZNAME:EST
DTSTART:20261101T060000
END:STANDARD
BEGIN:DAYLIGHT
TZOFFSETFROM:-0500
TZOFFSETTO:-0400
TZNAME:EDT
DTSTART:20270314T070000
END:DAYLIGHT
BEGIN:STANDARD
TZOFFSETFROM:-0400
TZOFFSETTO:-0500
TZNAME:EST
DTSTART:20271107T060000
END:STANDARD
END:VTIMEZONE
BEGIN:VEVENT
DTSTART;TZID=America/New_York:20260203T150000
DTEND;TZID=America/New_York:20260203T160000
DTSTAMP:20260421T102418
CREATED:20250916T203110Z
LAST-MODIFIED:20250916T203110Z
UID:4733-1770130800-1770134400@cpvb.org
SUMMARY:Yao Lab
DESCRIPTION:Presenter: Hongwei Yao\, PhD\nIn person only
URL:https://cpvb.org/event/yao-lab/
LOCATION:VA Hospital – Providence\, 830 Chalkstone Avenue\, Providence\, RI\, 02908\, United States
CATEGORIES:VRL Research in Progress
END:VEVENT
BEGIN:VEVENT
DTSTART;TZID=America/New_York:20260203T150000
DTEND;TZID=America/New_York:20260203T160000
DTSTAMP:20260421T102418
CREATED:20250916T203147Z
LAST-MODIFIED:20250916T203147Z
UID:4736-1770130800-1770134400@cpvb.org
SUMMARY:Choudhary Lab
DESCRIPTION:Presenter: Gaurav Choudhary\, MD\nIn person only
URL:https://cpvb.org/event/choudhary-lab-2/
LOCATION:VA Hospital – Providence\, 830 Chalkstone Avenue\, Providence\, RI\, 02908\, United States
CATEGORIES:VRL Research in Progress
END:VEVENT
BEGIN:VEVENT
DTSTART;TZID=America/New_York:20260206T150000
DTEND;TZID=America/New_York:20260206T160000
DTSTAMP:20260421T102418
CREATED:20260105T222109Z
LAST-MODIFIED:20260201T161800Z
UID:4842-1770390000-1770393600@cpvb.org
SUMMARY:Yang Zhou\, PhD – Immune Responses in Hermansky-Pudlak Syndrome-associated Lung Disease
DESCRIPTION:Immune Responses in Hermansky-Pudlak Syndrome-associated Lung Disease\nPresenter: Yang Zhou\, PhD\nLocation: Providence VA Medical Center (830 Chalkstone Ave\, Providence\, RI 02908)\nBuilding #35 Conference Room 142/143 \nIn person attendance is encouraged. If unable\, please join us virtually\nJoin Zoom Meeting\nhttps://brown.zoom.us/j/94324061641?pwd=6lEnXlMmzKtJwFKACm5aQP6dlUyfbC.1\nMeeting ID: 943 2406 1641
URL:https://cpvb.org/event/yang-zhou-phd-immune-responses-in-hermansky-pudlak-syndrome-associated-lung-disease/
LOCATION:VA Hospital – Providence\, 830 Chalkstone Avenue\, Providence\, RI\, 02908\, United States
CATEGORIES:Conference
END:VEVENT
BEGIN:VEVENT
DTSTART;TZID=America/New_York:20260213T150000
DTEND;TZID=America/New_York:20260213T160000
DTSTAMP:20260421T102418
CREATED:20260212T174510Z
LAST-MODIFIED:20260212T174510Z
UID:4950-1770994800-1770998400@cpvb.org
SUMMARY:Arvin Soepriatna\, PhD and Stephanie Roser\, PhD
DESCRIPTION:Presenters & Topics:\nArvin Soepriatna\, PhD – Postdoc in Coulombe lab: Engineering Bioelectric Threads for Regenerating Conduction in the Heart\nStephanie Roser\, PhD – Student in Coulombe lab: Proangiogenic Biomaterials for Revitalization of the Post-MI Rat Heart \nLocation: Providence VA Medical Center (830 Chalkstone Ave\, Providence\, RI 02908)\nBuilding #35 Conference Room 142/143 \nIn person attendance is encouraged. If unable\, please join us virtually\nJoin Zoom Meeting\nhttps://brown.zoom.us/j/94324061641?pwd=6lEnXlMmzKtJwFKACm5aQP6dlUyfbC.1\nMeeting ID: 943 2406 1641
URL:https://cpvb.org/event/arvin-soepriatna-phd-and-stephanie-roser-phd/
LOCATION:VA Hospital – Providence\, 830 Chalkstone Avenue\, Providence\, RI\, 02908\, United States
CATEGORIES:Conference
END:VEVENT
BEGIN:VEVENT
DTSTART;TZID=America/New_York:20260220T150000
DTEND;TZID=America/New_York:20260220T160000
DTSTAMP:20260421T102418
CREATED:20260105T222241Z
LAST-MODIFIED:20260202T191426Z
UID:4848-1771599600-1771603200@cpvb.org
SUMMARY:Navneet Singh\, MD\, ScM – The Liver is an Inflammatory Mediator of Pulmonary Arterial Hypertension
DESCRIPTION:The Liver is an Inflammatory Mediator of Pulmonary Arterial Hypertension\nPresenter: Navneet Singh\, MD\, ScM\nLocation: Providence VA Medical Center (830 Chalkstone Ave\, Providence\, RI 02908)\nBuilding #35 Conference Room 142/143 \nIn person attendance is encouraged. If unable\, please join us virtually\nJoin Zoom Meeting\nhttps://brown.zoom.us/j/94324061641?pwd=6lEnXlMmzKtJwFKACm5aQP6dlUyfbC.1\nMeeting ID: 943 2406 1641
URL:https://cpvb.org/event/navneet-singh-md-scm/
LOCATION:VA Hospital – Providence\, 830 Chalkstone Avenue\, Providence\, RI\, 02908\, United States
CATEGORIES:Conference
END:VEVENT
BEGIN:VEVENT
DTSTART;TZID=America/New_York:20260225T120000
DTEND;TZID=America/New_York:20260225T130000
DTSTAMP:20260421T102418
CREATED:20250916T203837Z
LAST-MODIFIED:20260105T221432Z
UID:4769-1772020800-1772024400@cpvb.org
SUMMARY:Sergey Solomevich
DESCRIPTION:Presenter: Sergey Solomevich\nIn person only \nThe Postdoc Journal Club is a monthly meeting where postdoctoral researchers select and present a journal article relevant to their research. Each session\, one participant chooses a recent or impactful paper\, summarizes key findings\, and leads a discussion with the group. The goal is to foster critical analysis\, stay updated on advancements\, and encourage interdisciplinary collaboration. The group collectively reviews the article\, offering insights\, discussing methodologies\, and evaluating its significance. This interactive format enhances scientific communication skills and keeps researchers engaged with the latest developments in their field.
URL:https://cpvb.org/event/sergey-solomevich/
LOCATION:VA Hospital – Providence\, 830 Chalkstone Avenue\, Providence\, RI\, 02908\, United States
CATEGORIES:Postdoctoral Journal Club
END:VEVENT
BEGIN:VEVENT
DTSTART;TZID=America/New_York:20260227T150000
DTEND;TZID=America/New_York:20260227T160000
DTSTAMP:20260421T102418
CREATED:20260105T222314Z
LAST-MODIFIED:20260223T200933Z
UID:4851-1772204400-1772208000@cpvb.org
SUMMARY:Daniel Yang\, MD – High-throughput functional profiling of MYH7 variants in genome-edited cardiomyocytes to predict cardiomyopathy risk
DESCRIPTION:High-throughput functional profiling of MYH7 variants in genome-edited cardiomyocytes to predict cardiomyopathy risk\nPresenter: Daniel Yang\, MD\nLocation: Providence VA Medical Center (830 Chalkstone Ave\, Providence\, RI 02908)\nBuilding #35 Conference Room 142/143 \nIn person attendance is encouraged. If unable\, please join us virtually\nJoin Zoom Meeting\nhttps://brown.zoom.us/j/94324061641?pwd=6lEnXlMmzKtJwFKACm5aQP6dlUyfbC.1\nMeeting ID: 943 2406 1641
URL:https://cpvb.org/event/daniel-yang-md/
LOCATION:VA Hospital – Providence\, 830 Chalkstone Avenue\, Providence\, RI\, 02908\, United States
CATEGORIES:Conference
END:VEVENT
END:VCALENDAR